BEGIN:VCALENDAR
VERSION:2.0
PRODID:-//NEW Dueling Pianos - ECPv6.15.20//NONSGML v1.0//EN
CALSCALE:GREGORIAN
METHOD:PUBLISH
X-WR-CALNAME:NEW Dueling Pianos
X-ORIGINAL-URL:https://newduelingpianos.com
X-WR-CALDESC:Events for NEW Dueling Pianos
REFRESH-INTERVAL;VALUE=DURATION:PT1H
X-Robots-Tag:noindex
X-PUBLISHED-TTL:PT1H
BEGIN:VTIMEZONE
TZID:America/Chicago
BEGIN:DAYLIGHT
TZOFFSETFROM:-0600
TZOFFSETTO:-0500
TZNAME:CDT
DTSTART:20230312T080000
END:DAYLIGHT
BEGIN:STANDARD
TZOFFSETFROM:-0500
TZOFFSETTO:-0600
TZNAME:CST
DTSTART:20231105T070000
END:STANDARD
BEGIN:DAYLIGHT
TZOFFSETFROM:-0600
TZOFFSETTO:-0500
TZNAME:CDT
DTSTART:20240310T080000
END:DAYLIGHT
BEGIN:STANDARD
TZOFFSETFROM:-0500
TZOFFSETTO:-0600
TZNAME:CST
DTSTART:20241103T070000
END:STANDARD
BEGIN:DAYLIGHT
TZOFFSETFROM:-0600
TZOFFSETTO:-0500
TZNAME:CDT
DTSTART:20250309T080000
END:DAYLIGHT
BEGIN:STANDARD
TZOFFSETFROM:-0500
TZOFFSETTO:-0600
TZNAME:CST
DTSTART:20251102T070000
END:STANDARD
BEGIN:DAYLIGHT
TZOFFSETFROM:-0600
TZOFFSETTO:-0500
TZNAME:CDT
DTSTART:20260308T080000
END:DAYLIGHT
BEGIN:STANDARD
TZOFFSETFROM:-0500
TZOFFSETTO:-0600
TZNAME:CST
DTSTART:20261101T070000
END:STANDARD
END:VTIMEZONE
BEGIN:VEVENT
DTSTART;VALUE=DATE:20250619
DTEND;VALUE=DATE:20250620
DTSTAMP:20260419T171104
CREATED:20250228T161135Z
LAST-MODIFIED:20260317T182934Z
UID:10001546-1750291200-1750377599@newduelingpianos.com
SUMMARY:Manitowoc Symphony Orchestra Fundraiser
DESCRIPTION:-TICKETS/INFO-NEW Dueling Pianos Returns for a Manitowoc Symphony Orchestra Fundraiser \nGet ready for a wild night of high-energy music\, spontaneous comedy\, and non-stop entertainment!It’s part concert\, part party—and 100% FUN!Sing along. Laugh out loud. Make a request (or three). You neverknow what’s coming next! \nDOORS OPEN: 5:00 PMSHOW STARTS: 6:00 PM \n🎟️ Tickets:Advance General Admission: $20.00At the Door: $25.00🌟 Go VIP! $500VIP Includes:• Reserved table for 8• Table-side service• Your choice: 2 bottles of wine or 1 bottle of wine + 6 beers \n🎉 Don’t miss this summer kickoff with a twist—benefiting the Manitowoc Symphony Orchestra!
URL:https://newduelingpianos.com/event/manitowoc-symphony-orchestra-fundraiser/
LOCATION:The Wharf Manitowoc\, 606 Quay St\, Manitowoc\, WI\, United States
GEO:44.091381;-87.655025
X-APPLE-STRUCTURED-LOCATION;VALUE=URI;X-ADDRESS=The Wharf Manitowoc 606 Quay St Manitowoc WI United States;X-APPLE-RADIUS=500;X-TITLE=606 Quay St:geo:-87.655025,44.091381
END:VEVENT
BEGIN:VEVENT
DTSTART;VALUE=DATE:20240626
DTEND;VALUE=DATE:20240627
DTSTAMP:20260419T171104
CREATED:20240329T012516Z
LAST-MODIFIED:20260317T182826Z
UID:10001446-1719360000-1719446399@newduelingpianos.com
SUMMARY:Manitowoc Symphony Fundraiser
DESCRIPTION:-TICKETS/INFO- \nhttps://manitowocsymphony.org/new-dueling-pianos-at-the-wharf/?fbclid=IwZXh0bgNhZW0CMTEAAR2V_soMJwTK8kpgKk6nibS3fWEl9wPKz3hzO4ooZiOU0cNwvCCQVutSKd8_aem_AWwvihYXj9a8QPUx8mkSsHwNd392vqqWXDiBZE-kiPvw-t71jtSvWQaawj8WSYlMCpb5cZsXHQh3jfAJqzBoPFvH\nMark your calendars for an MSO Fundraiser!\nWednesday\, June 26\nDoors open at 6:30pm\n$20 in advance / $25 at the door\nVIP tables for 8 also available\nNEW Dueling Pianos is Wisconsin’s very own Dueling Piano Entertainment! ‘The Guys’ request-based interactive\, hilarious\, sing-along/clap-along show covers practically every music genre! One of the most most sought after shows in Wisconsin! Pianos\, crazy talented entertainers\, and most importantly YOU! It’s always a party with ‘The Guys’!\nTremendous Talent • Great Cause • Cash Raffle • Cash Bar\nDine while they duel: The Wharf will have food for sale during the event see menu
URL:https://newduelingpianos.com/event/manitowoc-symphony-fundraiser/
LOCATION:The Wharf Manitowoc\, 606 Quay St\, Manitowoc\, WI\, United States
GEO:44.091381;-87.655025
X-APPLE-STRUCTURED-LOCATION;VALUE=URI;X-ADDRESS=The Wharf Manitowoc 606 Quay St Manitowoc WI United States;X-APPLE-RADIUS=500;X-TITLE=606 Quay St:geo:-87.655025,44.091381
END:VEVENT
END:VCALENDAR