BEGIN:VCALENDAR
VERSION:2.0
PRODID:-//NEW Dueling Pianos - ECPv6.15.20//NONSGML v1.0//EN
CALSCALE:GREGORIAN
METHOD:PUBLISH
X-ORIGINAL-URL:https://newduelingpianos.com
X-WR-CALDESC:Events for NEW Dueling Pianos
REFRESH-INTERVAL;VALUE=DURATION:PT1H
X-Robots-Tag:noindex
X-PUBLISHED-TTL:PT1H
BEGIN:VTIMEZONE
TZID:America/Chicago
BEGIN:DAYLIGHT
TZOFFSETFROM:-0600
TZOFFSETTO:-0500
TZNAME:CDT
DTSTART:20220313T080000
END:DAYLIGHT
BEGIN:STANDARD
TZOFFSETFROM:-0500
TZOFFSETTO:-0600
TZNAME:CST
DTSTART:20221106T070000
END:STANDARD
BEGIN:DAYLIGHT
TZOFFSETFROM:-0600
TZOFFSETTO:-0500
TZNAME:CDT
DTSTART:20230312T080000
END:DAYLIGHT
BEGIN:STANDARD
TZOFFSETFROM:-0500
TZOFFSETTO:-0600
TZNAME:CST
DTSTART:20231105T070000
END:STANDARD
BEGIN:DAYLIGHT
TZOFFSETFROM:-0600
TZOFFSETTO:-0500
TZNAME:CDT
DTSTART:20240310T080000
END:DAYLIGHT
BEGIN:STANDARD
TZOFFSETFROM:-0500
TZOFFSETTO:-0600
TZNAME:CST
DTSTART:20241103T070000
END:STANDARD
BEGIN:DAYLIGHT
TZOFFSETFROM:-0600
TZOFFSETTO:-0500
TZNAME:CDT
DTSTART:20250309T080000
END:DAYLIGHT
BEGIN:STANDARD
TZOFFSETFROM:-0500
TZOFFSETTO:-0600
TZNAME:CST
DTSTART:20251102T070000
END:STANDARD
END:VTIMEZONE
BEGIN:VEVENT
DTSTART;VALUE=DATE:20240824
DTEND;VALUE=DATE:20240825
DTSTAMP:20260422T083113
CREATED:20231109T002525Z
LAST-MODIFIED:20260317T182833Z
UID:10001365-1724457600-1724543999@newduelingpianos.com
SUMMARY:Pius X Fundraiser - Appleton
DESCRIPTION:-TICKETS/INFO-\nCatch us Saturday night at 7:30!\nhttps://stpiusappleton.org/parish-summer-festival?fbclid=IwZXh0bgNhZW0CMTEAAR03VKc_RNu8LDBMYLJD80snIsxixaxprbrPyAM5wVM3O7N5AU-CU8f178k_aem_AX5dnGUgILOJIfwk2m53wPvrfe9sOo5Db2b8mS2nT1NFR_bgfxA14w1C1fcoCtGwnD2IdCYSftXwGFNoYgcdPib6
URL:https://newduelingpianos.com/event/pius-x-fundraiser-appleton/
LOCATION:St Pius X Church\, 500 W Marquette St\, Appleton\, WI\, United States
GEO:44.282117;-88.412424
X-APPLE-STRUCTURED-LOCATION;VALUE=URI;X-ADDRESS=St Pius X Church 500 W Marquette St Appleton WI United States;X-APPLE-RADIUS=500;X-TITLE=500 W Marquette St:geo:-88.412424,44.282117
END:VEVENT
BEGIN:VEVENT
DTSTART;VALUE=DATE:20230826
DTEND;VALUE=DATE:20230827
DTSTAMP:20260422T083113
CREATED:20230107T003325Z
LAST-MODIFIED:20240829T003936Z
UID:10001248-1693008000-1693094399@newduelingpianos.com
SUMMARY:Pius X Parish Fundraiser - Appleton
DESCRIPTION:-INFO/DETAILS- \nSaturday August 26\,  7:30PM – 10:30PMNEW PIANO GUYS DUELING PIANOS \nHilarious.Interactive
URL:https://newduelingpianos.com/event/pius-x-parish-fundraiser-appleton/
LOCATION:St Pius X Church\, 500 W Marquette St\, Appleton\, WI\, United States
GEO:44.282117;-88.412424
X-APPLE-STRUCTURED-LOCATION;VALUE=URI;X-ADDRESS=St Pius X Church 500 W Marquette St Appleton WI United States;X-APPLE-RADIUS=500;X-TITLE=500 W Marquette St:geo:-88.412424,44.282117
END:VEVENT
END:VCALENDAR