BEGIN:VCALENDAR
VERSION:2.0
PRODID:-//NEW Dueling Pianos - ECPv6.15.20//NONSGML v1.0//EN
CALSCALE:GREGORIAN
METHOD:PUBLISH
X-WR-CALNAME:NEW Dueling Pianos
X-ORIGINAL-URL:https://newduelingpianos.com
X-WR-CALDESC:Events for NEW Dueling Pianos
REFRESH-INTERVAL;VALUE=DURATION:PT1H
X-Robots-Tag:noindex
X-PUBLISHED-TTL:PT1H
BEGIN:VTIMEZONE
TZID:America/Chicago
BEGIN:DAYLIGHT
TZOFFSETFROM:-0600
TZOFFSETTO:-0500
TZNAME:CDT
DTSTART:20230312T080000
END:DAYLIGHT
BEGIN:STANDARD
TZOFFSETFROM:-0500
TZOFFSETTO:-0600
TZNAME:CST
DTSTART:20231105T070000
END:STANDARD
BEGIN:DAYLIGHT
TZOFFSETFROM:-0600
TZOFFSETTO:-0500
TZNAME:CDT
DTSTART:20240310T080000
END:DAYLIGHT
BEGIN:STANDARD
TZOFFSETFROM:-0500
TZOFFSETTO:-0600
TZNAME:CST
DTSTART:20241103T070000
END:STANDARD
BEGIN:DAYLIGHT
TZOFFSETFROM:-0600
TZOFFSETTO:-0500
TZNAME:CDT
DTSTART:20250309T080000
END:DAYLIGHT
BEGIN:STANDARD
TZOFFSETFROM:-0500
TZOFFSETTO:-0600
TZNAME:CST
DTSTART:20251102T070000
END:STANDARD
END:VTIMEZONE
BEGIN:VEVENT
DTSTART;VALUE=DATE:20240113
DTEND;VALUE=DATE:20240114
DTSTAMP:20260420T143604
CREATED:20230423T164859Z
LAST-MODIFIED:20240829T003955Z
UID:10001295-1705104000-1705190399@newduelingpianos.com
SUMMARY:Simply Country Barn - Freedom
DESCRIPTION:-TICKETS/INFO- \nCome join us for a night of musical fun at the Simply Country Barn – Weddings & Event Venue in Freedom\, WI\, USA. Get ready to sing along and dance to the energetic tunes of our talented dueling pianos players. With their amazing skills and interactive performances\, they’ll have you laughing and clapping all night long. This in-person event promises an unforgettable evening of entertainment and good times. Don’t miss out on this exciting opportunity to enjoy live music in a cozy and inviting atmosphere. Grab your friends and get ready to have a blast! \nDoors will open at 6pm in our Lower Level at Simply Country Barn. \nThere will also be popcorn. \nThe VIP tickets will receive a coupon for a free drink. All tickets will be assigned to tables according to the time you purchase tickets. So if you want to sit by certain people purchase your tickets together at the same time. \nGeneral admission will also be assigned tables as you purchase tickets.
URL:https://newduelingpianos.com/event/simply-country-barn-freedom/
LOCATION:Simply Country Barn – N 3504\, 3601 Freedom Rd\, Appleton\, WI\, United States
GEO:44.304815;-88.31288
X-APPLE-STRUCTURED-LOCATION;VALUE=URI;X-ADDRESS=Simply Country Barn – N 3504 3601 Freedom Rd Appleton WI United States;X-APPLE-RADIUS=500;X-TITLE=3601 Freedom Rd:geo:-88.31288,44.304815
END:VEVENT
END:VCALENDAR