BEGIN:VCALENDAR
VERSION:2.0
PRODID:-//NEW Dueling Pianos - ECPv6.15.20//NONSGML v1.0//EN
CALSCALE:GREGORIAN
METHOD:PUBLISH
X-ORIGINAL-URL:https://newduelingpianos.com
X-WR-CALDESC:Events for NEW Dueling Pianos
REFRESH-INTERVAL;VALUE=DURATION:PT1H
X-Robots-Tag:noindex
X-PUBLISHED-TTL:PT1H
BEGIN:VTIMEZONE
TZID:America/Chicago
BEGIN:DAYLIGHT
TZOFFSETFROM:-0600
TZOFFSETTO:-0500
TZNAME:CDT
DTSTART:20220313T080000
END:DAYLIGHT
BEGIN:STANDARD
TZOFFSETFROM:-0500
TZOFFSETTO:-0600
TZNAME:CST
DTSTART:20221106T070000
END:STANDARD
BEGIN:DAYLIGHT
TZOFFSETFROM:-0600
TZOFFSETTO:-0500
TZNAME:CDT
DTSTART:20230312T080000
END:DAYLIGHT
BEGIN:STANDARD
TZOFFSETFROM:-0500
TZOFFSETTO:-0600
TZNAME:CST
DTSTART:20231105T070000
END:STANDARD
BEGIN:DAYLIGHT
TZOFFSETFROM:-0600
TZOFFSETTO:-0500
TZNAME:CDT
DTSTART:20240310T080000
END:DAYLIGHT
BEGIN:STANDARD
TZOFFSETFROM:-0500
TZOFFSETTO:-0600
TZNAME:CST
DTSTART:20241103T070000
END:STANDARD
BEGIN:DAYLIGHT
TZOFFSETFROM:-0600
TZOFFSETTO:-0500
TZNAME:CDT
DTSTART:20250309T080000
END:DAYLIGHT
BEGIN:STANDARD
TZOFFSETFROM:-0500
TZOFFSETTO:-0600
TZNAME:CST
DTSTART:20251102T070000
END:STANDARD
END:VTIMEZONE
BEGIN:VEVENT
DTSTART;VALUE=DATE:20241004
DTEND;VALUE=DATE:20241005
DTSTAMP:20260422T083415
CREATED:20240304T224000Z
LAST-MODIFIED:20260317T182838Z
UID:10001431-1728000000-1728086399@newduelingpianos.com
SUMMARY:Kenosha Giving Circle Fundraiser
DESCRIPTION:-TICKETS/INFO-  \nHey friends! Friday October 4th is fast approaching so get your ticket for Dueling Pianos for an evening of good food\, FABULOUS entertainment\, unbelievable Dessert Bat\, Silent Auction (see comments for some of items)\, Heads or Tails game\, 50/50 raffle.  \n\nAn evening filled with FUN!  \n\nCall 262-694-2051 or email kenoshagivingcircle@gmail.com for tickets. \n\nYOU WILL BE HELPING A GREAT CAUSE – THE GIVING CIRCLE
URL:https://newduelingpianos.com/event/kenosha-giving-circle-fundraiser/
LOCATION:Saint Marys Roman Catholic Church\, 7307 40th Ave\, Kenosha\, WI\, United States
GEO:42.568232;-87.856418
X-APPLE-STRUCTURED-LOCATION;VALUE=URI;X-ADDRESS=Saint Marys Roman Catholic Church 7307 40th Ave Kenosha WI United States;X-APPLE-RADIUS=500;X-TITLE=7307 40th Ave:geo:-87.856418,42.568232
END:VEVENT
BEGIN:VEVENT
DTSTART;VALUE=DATE:20230929
DTEND;VALUE=DATE:20230930
DTSTAMP:20260422T083416
CREATED:20230602T204831Z
LAST-MODIFIED:20240829T003939Z
UID:10001318-1695945600-1696031999@newduelingpianos.com
SUMMARY:Giving Circle Fundraiser - Kenosha
DESCRIPTION:-TICKETS/INFO-Kenosha Giving Circle Presents \nNEW Dueling PianosSt Mary Bell HallDinner -Silent Auction – Entertainment \nDoors open at 5pmDinner at 6pmShow from 7-10pm \nMoney raised to help over 225 families at Christmastime!  Any/all tips/bribes/gratuities received during the show will be donated back to the fundraiser! \nGet your Dueling Pianos Tickets by calling Kathy 262-694-2051 or email kenoshagivigcircle@gmail.com
URL:https://newduelingpianos.com/event/giving-circle-fundraiser-kenosha/
LOCATION:Saint Marys Roman Catholic Church\, 7307 40th Ave\, Kenosha\, WI\, United States
GEO:42.568232;-87.856418
X-APPLE-STRUCTURED-LOCATION;VALUE=URI;X-ADDRESS=Saint Marys Roman Catholic Church 7307 40th Ave Kenosha WI United States;X-APPLE-RADIUS=500;X-TITLE=7307 40th Ave:geo:-87.856418,42.568232
END:VEVENT
END:VCALENDAR