BEGIN:VCALENDAR
VERSION:2.0
PRODID:-//NEW Dueling Pianos - ECPv6.15.20//NONSGML v1.0//EN
CALSCALE:GREGORIAN
METHOD:PUBLISH
X-ORIGINAL-URL:https://newduelingpianos.com
X-WR-CALDESC:Events for NEW Dueling Pianos
REFRESH-INTERVAL;VALUE=DURATION:PT1H
X-Robots-Tag:noindex
X-PUBLISHED-TTL:PT1H
BEGIN:VTIMEZONE
TZID:America/Chicago
BEGIN:DAYLIGHT
TZOFFSETFROM:-0600
TZOFFSETTO:-0500
TZNAME:CDT
DTSTART:20230312T080000
END:DAYLIGHT
BEGIN:STANDARD
TZOFFSETFROM:-0500
TZOFFSETTO:-0600
TZNAME:CST
DTSTART:20231105T070000
END:STANDARD
BEGIN:DAYLIGHT
TZOFFSETFROM:-0600
TZOFFSETTO:-0500
TZNAME:CDT
DTSTART:20240310T080000
END:DAYLIGHT
BEGIN:STANDARD
TZOFFSETFROM:-0500
TZOFFSETTO:-0600
TZNAME:CST
DTSTART:20241103T070000
END:STANDARD
BEGIN:DAYLIGHT
TZOFFSETFROM:-0600
TZOFFSETTO:-0500
TZNAME:CDT
DTSTART:20250309T080000
END:DAYLIGHT
BEGIN:STANDARD
TZOFFSETFROM:-0500
TZOFFSETTO:-0600
TZNAME:CST
DTSTART:20251102T070000
END:STANDARD
END:VTIMEZONE
BEGIN:VEVENT
DTSTART;VALUE=DATE:20240419
DTEND;VALUE=DATE:20240420
DTSTAMP:20260424T074414
CREATED:20231117T012456Z
LAST-MODIFIED:20240829T004005Z
UID:10001367-1713484800-1713571199@newduelingpianos.com
SUMMARY:Round Lake Farms - Brillion
DESCRIPTION:-TICKETS/INFO-  \nYou will not want to miss this amazing night of dinner and dueling pianos! \nWe’ll start the night off right\, with a delicious dinner created by AriensCo Hospitality’s Executive Chef\, Damon Warbelton. Then we’ll rock the night away with the talented duo from NEW Dueling Pianos! Get ready to request all of your favorites\, and sing your heart out! \nFriday\, April 19th \nRound Lake Farms at Ariens Nordic Center \nDoors Open/Cash Bar Available: 5:15PM \nDinner: 6-7PM \nShow: 7-10PM \nTickets: $55 + Per Person (Ticket includes dinner and the show) 
URL:https://newduelingpianos.com/event/round-lake-farms-brillion-2/
LOCATION:Round Lake Farms\, 7201 Round Lake Rd\, Brillion\, WI\, United States
GEO:44.153497;-88.043649
X-APPLE-STRUCTURED-LOCATION;VALUE=URI;X-ADDRESS=Round Lake Farms 7201 Round Lake Rd Brillion WI United States;X-APPLE-RADIUS=500;X-TITLE=7201 Round Lake Rd:geo:-88.043649,44.153497
END:VEVENT
END:VCALENDAR