BEGIN:VCALENDAR
VERSION:2.0
PRODID:-//NEW Dueling Pianos - ECPv6.15.20//NONSGML v1.0//EN
CALSCALE:GREGORIAN
METHOD:PUBLISH
X-ORIGINAL-URL:https://newduelingpianos.com
X-WR-CALDESC:Events for NEW Dueling Pianos
REFRESH-INTERVAL;VALUE=DURATION:PT1H
X-Robots-Tag:noindex
X-PUBLISHED-TTL:PT1H
BEGIN:VTIMEZONE
TZID:America/Chicago
BEGIN:DAYLIGHT
TZOFFSETFROM:-0600
TZOFFSETTO:-0500
TZNAME:CDT
DTSTART:20210314T080000
END:DAYLIGHT
BEGIN:STANDARD
TZOFFSETFROM:-0500
TZOFFSETTO:-0600
TZNAME:CST
DTSTART:20211107T070000
END:STANDARD
BEGIN:DAYLIGHT
TZOFFSETFROM:-0600
TZOFFSETTO:-0500
TZNAME:CDT
DTSTART:20220313T080000
END:DAYLIGHT
BEGIN:STANDARD
TZOFFSETFROM:-0500
TZOFFSETTO:-0600
TZNAME:CST
DTSTART:20221106T070000
END:STANDARD
BEGIN:DAYLIGHT
TZOFFSETFROM:-0600
TZOFFSETTO:-0500
TZNAME:CDT
DTSTART:20230312T080000
END:DAYLIGHT
BEGIN:STANDARD
TZOFFSETFROM:-0500
TZOFFSETTO:-0600
TZNAME:CST
DTSTART:20231105T070000
END:STANDARD
BEGIN:DAYLIGHT
TZOFFSETFROM:-0600
TZOFFSETTO:-0500
TZNAME:CDT
DTSTART:20240310T080000
END:DAYLIGHT
BEGIN:STANDARD
TZOFFSETFROM:-0500
TZOFFSETTO:-0600
TZNAME:CST
DTSTART:20241103T070000
END:STANDARD
END:VTIMEZONE
BEGIN:VEVENT
DTSTART;VALUE=DATE:20230415
DTEND;VALUE=DATE:20230416
DTSTAMP:20260421T200652
CREATED:20221114T190417Z
LAST-MODIFIED:20230606T204843Z
UID:10001213-1681516800-1681603199@newduelingpianos.com
SUMMARY:QUAD FEST 2023 - Green Bay
DESCRIPTION:-TICKETS/DETAILS-  \nCall or email Laurie or MJ at (920) 496-2160 or msmithers@quad-parish.org \nJoin us for a night of food\, music and laughter. Two guys\, two piano’s and one unforgettable night of music and fun. We are so excited to announce this Fundraising Event for the Quad Parishes of Green Bay on April 15th at Riverside Ballroom\, 1560 Main Street\, Green Bay.  \n5pm – Doors open \n5:45 – Family style Chicken & Ham Dinner  \n7:30-10:30pm – NEW Dueling Pianos \nTickets for food and show only $25.00 per person – and NEED TO BE PURCHASED BY APRIL 10! \nOn the day of the event\, we will have SHOW ONLY tickets available.  So if you want the dinner portion\, be sure to call/reserve ahead of time!! \nLimited seating available. If you are interested in this fun event contact Laurie or MJ @ 920-496-2160 or email msmithers@quad-parish.org
URL:https://newduelingpianos.com/event/quad-parish-fundraiser-green-bay/
LOCATION:Riverside Ballroom\, 1560 Main St\, Green Bay\, WI 54302\, USA
END:VEVENT
BEGIN:VEVENT
DTSTART;VALUE=DATE:20221103
DTEND;VALUE=DATE:20221104
DTSTAMP:20260421T200652
CREATED:20220805T172937Z
LAST-MODIFIED:20230606T204832Z
UID:10000957-1667433600-1667519999@newduelingpianos.com
SUMMARY:Families of Children with Cancer Fundraiser - Green Bay
DESCRIPTION:-TICKETS/INFO-Come on out for a super fun Fundraiser with NEW Dueling Pianos benefitting a fantastic organization in Northeast Wisconsin benefitting local families affected by childhood cancer \nDrinks – 5pmDinner – 6pmShow – 7-10pm  \nTickets are $30/ea   $240/table of 8 \nBuckets Raffle – 50/50 Raffle \nAll proceeds from this event . \nContact Robb Collard at 920-471-6350
URL:https://newduelingpianos.com/event/families-of-children-with-cancer-fundraiser-green-bay/
LOCATION:Riverside Ballroom\, 1560 Main St\, Green Bay\, WI 54302\, USA
END:VEVENT
END:VCALENDAR