BEGIN:VCALENDAR
VERSION:2.0
PRODID:-//NEW Dueling Pianos - ECPv6.15.20//NONSGML v1.0//EN
CALSCALE:GREGORIAN
METHOD:PUBLISH
X-WR-CALNAME:NEW Dueling Pianos
X-ORIGINAL-URL:https://newduelingpianos.com
X-WR-CALDESC:Events for NEW Dueling Pianos
REFRESH-INTERVAL;VALUE=DURATION:PT1H
X-Robots-Tag:noindex
X-PUBLISHED-TTL:PT1H
BEGIN:VTIMEZONE
TZID:America/Chicago
BEGIN:DAYLIGHT
TZOFFSETFROM:-0600
TZOFFSETTO:-0500
TZNAME:CDT
DTSTART:20220313T080000
END:DAYLIGHT
BEGIN:STANDARD
TZOFFSETFROM:-0500
TZOFFSETTO:-0600
TZNAME:CST
DTSTART:20221106T070000
END:STANDARD
BEGIN:DAYLIGHT
TZOFFSETFROM:-0600
TZOFFSETTO:-0500
TZNAME:CDT
DTSTART:20230312T080000
END:DAYLIGHT
BEGIN:STANDARD
TZOFFSETFROM:-0500
TZOFFSETTO:-0600
TZNAME:CST
DTSTART:20231105T070000
END:STANDARD
BEGIN:DAYLIGHT
TZOFFSETFROM:-0600
TZOFFSETTO:-0500
TZNAME:CDT
DTSTART:20240310T080000
END:DAYLIGHT
BEGIN:STANDARD
TZOFFSETFROM:-0500
TZOFFSETTO:-0600
TZNAME:CST
DTSTART:20241103T070000
END:STANDARD
END:VTIMEZONE
BEGIN:VEVENT
DTSTART;VALUE=DATE:20230421
DTEND;VALUE=DATE:20230422
DTSTAMP:20260425T120448
CREATED:20220805T172946Z
LAST-MODIFIED:20230606T204843Z
UID:10000981-1682035200-1682121599@newduelingpianos.com
SUMMARY:MIBA Fundraiser - Mishicot
DESCRIPTION:-TICKETS/INFO- \nCome on out and support Mishicot Indians Baseball Association with a fun filled night with the entertainment of the N E W Piano Guys! This event will take place at Par 5 in Mishicot on Friday January 28th\, 2022. This year we will be doing a Taco Bar dinner in the smaller ballroom before the show. Dinner will begin at 5:30 and is buffet style. The buffet will be available until about 7:00 pm. The doors to the grand ballroom where the show will take place will open at 7pm. Dueling piano show will start at 8pm. We will have both bars open outside grand ballroom at 6pm. Once show starts there will also be a bar inside of ballroom open.
URL:https://newduelingpianos.com/event/miba-fundraiser-mishicot/
LOCATION:Par 5 Resort\, 250 W Church St\, Mishicot\, WI 54228\, USA
END:VEVENT
END:VCALENDAR