BEGIN:VCALENDAR
VERSION:2.0
PRODID:-//NEW Dueling Pianos - ECPv6.15.20//NONSGML v1.0//EN
CALSCALE:GREGORIAN
METHOD:PUBLISH
X-ORIGINAL-URL:https://newduelingpianos.com
X-WR-CALDESC:Events for NEW Dueling Pianos
REFRESH-INTERVAL;VALUE=DURATION:PT1H
X-Robots-Tag:noindex
X-PUBLISHED-TTL:PT1H
BEGIN:VTIMEZONE
TZID:America/Chicago
BEGIN:DAYLIGHT
TZOFFSETFROM:-0600
TZOFFSETTO:-0500
TZNAME:CDT
DTSTART:20240310T080000
END:DAYLIGHT
BEGIN:STANDARD
TZOFFSETFROM:-0500
TZOFFSETTO:-0600
TZNAME:CST
DTSTART:20241103T070000
END:STANDARD
BEGIN:DAYLIGHT
TZOFFSETFROM:-0600
TZOFFSETTO:-0500
TZNAME:CDT
DTSTART:20250309T080000
END:DAYLIGHT
BEGIN:STANDARD
TZOFFSETFROM:-0500
TZOFFSETTO:-0600
TZNAME:CST
DTSTART:20251102T070000
END:STANDARD
BEGIN:DAYLIGHT
TZOFFSETFROM:-0600
TZOFFSETTO:-0500
TZNAME:CDT
DTSTART:20260308T080000
END:DAYLIGHT
BEGIN:STANDARD
TZOFFSETFROM:-0500
TZOFFSETTO:-0600
TZNAME:CST
DTSTART:20261101T070000
END:STANDARD
END:VTIMEZONE
BEGIN:VEVENT
DTSTART;VALUE=DATE:20250508
DTEND;VALUE=DATE:20250509
DTSTAMP:20260423T050430
CREATED:20250125T192614Z
LAST-MODIFIED:20260317T182925Z
UID:10001530-1746662400-1746748799@newduelingpianos.com
SUMMARY:YMCA - Green Bay
DESCRIPTION:-TICKETS/INFO-  \nGet ready for an exciting night of music\, laughter\, and community impact at NEW Dueling Pianos on May 8\, 2025\, at Oneida Casino Hotel. This interactive\, high-energy show brings two talented pianists together for a performance filled with audience requests\, sing-alongs\, and unforgettable moments.  \nEvery ticket sold supports the Green Bay YMCA’s Safety Around Water Program at the Boys & Girls Club of Greater Green Bay\, helping local children learn lifesaving water safety skills.  \nEnjoy the show from VIP tables\, reserved seating\, or general admission. Grab your tickets now and be part of an incredible night that makes a difference. \nThank you to our generous partners: Oneida Casino Hotel\, Nicolet Bank\, and NEW Dueling Pianos
URL:https://newduelingpianos.com/event/ymca-green-bay/
LOCATION:Oneida Hotel – 2040 Airport Dr.\, Green Bay\, WI 545313
END:VEVENT
END:VCALENDAR