BEGIN:VCALENDAR
VERSION:2.0
PRODID:-//NEW Dueling Pianos - ECPv6.15.20//NONSGML v1.0//EN
CALSCALE:GREGORIAN
METHOD:PUBLISH
X-ORIGINAL-URL:https://newduelingpianos.com
X-WR-CALDESC:Events for NEW Dueling Pianos
REFRESH-INTERVAL;VALUE=DURATION:PT1H
X-Robots-Tag:noindex
X-PUBLISHED-TTL:PT1H
BEGIN:VTIMEZONE
TZID:America/Chicago
BEGIN:DAYLIGHT
TZOFFSETFROM:-0600
TZOFFSETTO:-0500
TZNAME:CDT
DTSTART:20220313T080000
END:DAYLIGHT
BEGIN:STANDARD
TZOFFSETFROM:-0500
TZOFFSETTO:-0600
TZNAME:CST
DTSTART:20221106T070000
END:STANDARD
BEGIN:DAYLIGHT
TZOFFSETFROM:-0600
TZOFFSETTO:-0500
TZNAME:CDT
DTSTART:20230312T080000
END:DAYLIGHT
BEGIN:STANDARD
TZOFFSETFROM:-0500
TZOFFSETTO:-0600
TZNAME:CST
DTSTART:20231105T070000
END:STANDARD
BEGIN:DAYLIGHT
TZOFFSETFROM:-0600
TZOFFSETTO:-0500
TZNAME:CDT
DTSTART:20240310T080000
END:DAYLIGHT
BEGIN:STANDARD
TZOFFSETFROM:-0500
TZOFFSETTO:-0600
TZNAME:CST
DTSTART:20241103T070000
END:STANDARD
END:VTIMEZONE
BEGIN:VEVENT
DTSTART;VALUE=DATE:20231021
DTEND;VALUE=DATE:20231022
DTSTAMP:20260425T211545
CREATED:20230706T172142Z
LAST-MODIFIED:20231015T231119Z
UID:10001329-1697846400-1697932799@newduelingpianos.com
SUMMARY:Murray's on Main - Tomah
DESCRIPTION:-TICKETS/INFO- \nFUNDRAISER FOR SPECIAL CHRISTMAS!!GET YOUR TABLES TOGETHER!!Call 608-377-7100 to reserve your table NOW!  \nDoors – 5:30Dinner – 6:15Show – 7:30-10:00 \n$50/ticket$450/table of 10 \nDinner includes:Sous Vide Roast BeefDouble Baked ChickenGarlic Mashed PotatoesBacon Glased Green BeansDinner Roll & Desserts \nCall 608-377-7100 for tickets!
URL:https://newduelingpianos.com/event/murrays-on-main-tomah-2/
LOCATION:Murray’s on Main\, 810 Superior Ave\, Tomah\, WI 54660\, USA
END:VEVENT
BEGIN:VEVENT
DTSTART;VALUE=DATE:20230428
DTEND;VALUE=DATE:20230429
DTSTAMP:20260425T211545
CREATED:20230321T153235Z
LAST-MODIFIED:20230606T204843Z
UID:10001281-1682640000-1682726399@newduelingpianos.com
SUMMARY:Murray's on Main - Tomah
DESCRIPTION:-TICKETS/INFO- Fun night of Dinner & Dueling Pianos with NEW Dueling Pianos at Murray’s on Main!   \nDoors open at 5:30Dinner at 6:30Show from 7:30-10! \n$40/ticket – – Tables of 8 will receive priority seating – but you can by individually! \nTickets can be purchased by stopping in at Murray’s on Main or calling 608-377-7100 \nDinner will be:Sous Vide Roast Beef or Double Baked ChickenGarlic Mashed Potatoes Bacon Glazed Green BeansDinner Roll
URL:https://newduelingpianos.com/event/murrays-on-main-tomah/
LOCATION:Murray’s on Main\, 810 Superior Ave\, Tomah\, WI 54660\, USA
END:VEVENT
END:VCALENDAR