BEGIN:VCALENDAR
VERSION:2.0
PRODID:-//NEW Dueling Pianos - ECPv6.15.20//NONSGML v1.0//EN
CALSCALE:GREGORIAN
METHOD:PUBLISH
X-ORIGINAL-URL:https://newduelingpianos.com
X-WR-CALDESC:Events for NEW Dueling Pianos
REFRESH-INTERVAL;VALUE=DURATION:PT1H
X-Robots-Tag:noindex
X-PUBLISHED-TTL:PT1H
BEGIN:VTIMEZONE
TZID:America/Chicago
BEGIN:DAYLIGHT
TZOFFSETFROM:-0600
TZOFFSETTO:-0500
TZNAME:CDT
DTSTART:20230312T080000
END:DAYLIGHT
BEGIN:STANDARD
TZOFFSETFROM:-0500
TZOFFSETTO:-0600
TZNAME:CST
DTSTART:20231105T070000
END:STANDARD
BEGIN:DAYLIGHT
TZOFFSETFROM:-0600
TZOFFSETTO:-0500
TZNAME:CDT
DTSTART:20240310T080000
END:DAYLIGHT
BEGIN:STANDARD
TZOFFSETFROM:-0500
TZOFFSETTO:-0600
TZNAME:CST
DTSTART:20241103T070000
END:STANDARD
BEGIN:DAYLIGHT
TZOFFSETFROM:-0600
TZOFFSETTO:-0500
TZNAME:CDT
DTSTART:20250309T080000
END:DAYLIGHT
BEGIN:STANDARD
TZOFFSETFROM:-0500
TZOFFSETTO:-0600
TZNAME:CST
DTSTART:20251102T070000
END:STANDARD
END:VTIMEZONE
BEGIN:VEVENT
DTSTART;VALUE=DATE:20240518
DTEND;VALUE=DATE:20240519
DTSTAMP:20260425T233248
CREATED:20240207T195546Z
LAST-MODIFIED:20240829T004009Z
UID:10001426-1715990400-1716076799@newduelingpianos.com
SUMMARY:Mole Lake Casino - Crandon
DESCRIPTION:-TICKETS/INFO- \nEnjoy cocktail hour from 6PM to 7PM. The show will start at 7:30PM. \n$25/person \nNEW Dueling Pianos is Wisconsin’s very own Dueling Piano Entertainment! Their request-based interactive\, hilarious\, sing-along/clap-along\, request-driven show covers practically every music genre! Make your plans to become a part of the 1000’s of people who have experienced the truly one-of-kind experience that only ‘The Guys’ can deliver! Their Dueling Pianos show is one of the most sought after (and SOLD OUT) shows in Wisconsin!
URL:https://newduelingpianos.com/event/mole-lake-casino-crandon/
LOCATION:Mole Lake Casino Lodge\, Crandon\, WI\, United States
GEO:45.511846;-88.891846
END:VEVENT
END:VCALENDAR