BEGIN:VCALENDAR
VERSION:2.0
PRODID:-//NEW Dueling Pianos - ECPv6.15.20//NONSGML v1.0//EN
CALSCALE:GREGORIAN
METHOD:PUBLISH
X-ORIGINAL-URL:https://newduelingpianos.com
X-WR-CALDESC:Events for NEW Dueling Pianos
REFRESH-INTERVAL;VALUE=DURATION:PT1H
X-Robots-Tag:noindex
X-PUBLISHED-TTL:PT1H
BEGIN:VTIMEZONE
TZID:America/Chicago
BEGIN:DAYLIGHT
TZOFFSETFROM:-0600
TZOFFSETTO:-0500
TZNAME:CDT
DTSTART:20230312T080000
END:DAYLIGHT
BEGIN:STANDARD
TZOFFSETFROM:-0500
TZOFFSETTO:-0600
TZNAME:CST
DTSTART:20231105T070000
END:STANDARD
BEGIN:DAYLIGHT
TZOFFSETFROM:-0600
TZOFFSETTO:-0500
TZNAME:CDT
DTSTART:20240310T080000
END:DAYLIGHT
BEGIN:STANDARD
TZOFFSETFROM:-0500
TZOFFSETTO:-0600
TZNAME:CST
DTSTART:20241103T070000
END:STANDARD
BEGIN:DAYLIGHT
TZOFFSETFROM:-0600
TZOFFSETTO:-0500
TZNAME:CDT
DTSTART:20250309T080000
END:DAYLIGHT
BEGIN:STANDARD
TZOFFSETFROM:-0500
TZOFFSETTO:-0600
TZNAME:CST
DTSTART:20251102T070000
END:STANDARD
BEGIN:DAYLIGHT
TZOFFSETFROM:-0600
TZOFFSETTO:-0500
TZNAME:CDT
DTSTART:20260308T080000
END:DAYLIGHT
BEGIN:STANDARD
TZOFFSETFROM:-0500
TZOFFSETTO:-0600
TZNAME:CST
DTSTART:20261101T070000
END:STANDARD
BEGIN:DAYLIGHT
TZOFFSETFROM:-0600
TZOFFSETTO:-0500
TZNAME:CDT
DTSTART:20270314T080000
END:DAYLIGHT
BEGIN:STANDARD
TZOFFSETFROM:-0500
TZOFFSETTO:-0600
TZNAME:CST
DTSTART:20271107T070000
END:STANDARD
END:VTIMEZONE
BEGIN:VEVENT
DTSTART;VALUE=DATE:20260207
DTEND;VALUE=DATE:20260208
DTSTAMP:20260425T104404
CREATED:20250828T182626Z
LAST-MODIFIED:20260317T183018Z
UID:10001607-1770422400-1770508799@newduelingpianos.com
SUMMARY:Loopy's - Chippewa Falls
DESCRIPTION:-TICKETS/INFO-🔥🎹 NEW DUELING PIANOS AT LOOPY’S! 🎹🔥 Join us for an unforgettable evening with NEW Guys Dueling Pianos to support our local Town of Wheaton Fire & Rescue! Grab your friends and family for a night filled with delicious food\, great company\, and great entertainment\, all for an amazing cause! 🙌👨‍🚒👩‍🚒 Get your tickets today at  \nBUY TICKETS! \n🗓 Date: Saturday\, February 7th🕠 Time: Cocktail hour starts at 5:30 PM🍽 Dinner served from 6:30 PM to 7:30 PM🎶 Dueling Pianos show kicks off at 8:00 PM🎟 Tickets: $50 per person (includes dinner)💼 Tables: $400 for a table of 8 (includes dinner) 😎 😎
URL:https://newduelingpianos.com/event/loopys-chippewa-falls-3/
LOCATION:Loopy’s Grill & Saloon\, 10691 Co Hwy X\, Chippewa Falls\, WI\, United States
GEO:44.922449;-91.465125
X-APPLE-STRUCTURED-LOCATION;VALUE=URI;X-ADDRESS=Loopy’s Grill & Saloon 10691 Co Hwy X Chippewa Falls WI United States;X-APPLE-RADIUS=500;X-TITLE=10691 Co Hwy X:geo:-91.465125,44.922449
END:VEVENT
BEGIN:VEVENT
DTSTART;VALUE=DATE:20240127
DTEND;VALUE=DATE:20240128
DTSTAMP:20260425T104404
CREATED:20230916T212512Z
LAST-MODIFIED:20240829T003956Z
UID:10001347-1706313600-1706399999@newduelingpianos.com
SUMMARY:Loopy's - Chippewa Falls
DESCRIPTION:-TICKETS/INFO-  \n🔥🎹 NEW DUELING PIANOS AT LOOPY’S! 🎹🔥 Join us for an unforgettable evening with NEW Dueling Pianos to support our local Town of Wheaton Fire & Rescue! Grab your friends and family for a night filled with delicious food\, great company\, and great entertainment\, all for an amazing cause!  🙌👨‍🚒👩‍🚒 Get your tickets today! \n🗓 Date: Saturday\, January 27th🕠 Time: Cocktail hour starts at 5:30 PM \n🍽 Dinner served from 6:30 PM to 7:30 PM \n🎶 Dueling Pianos show kicks off at 8:00 PM \n🎟 Tickets: $50 per person (includes dinner) \n💼 Tables: $400 for a table of 8 (includes dinner for 8)
URL:https://newduelingpianos.com/event/loopys-chippewa-falls/
LOCATION:Loopy’s Grill & Saloon\, 10691 Co Hwy X\, Chippewa Falls\, WI\, United States
GEO:44.922449;-91.465125
X-APPLE-STRUCTURED-LOCATION;VALUE=URI;X-ADDRESS=Loopy’s Grill & Saloon 10691 Co Hwy X Chippewa Falls WI United States;X-APPLE-RADIUS=500;X-TITLE=10691 Co Hwy X:geo:-91.465125,44.922449
END:VEVENT
END:VCALENDAR