BEGIN:VCALENDAR
VERSION:2.0
PRODID:-//NEW Dueling Pianos - ECPv6.15.20//NONSGML v1.0//EN
CALSCALE:GREGORIAN
METHOD:PUBLISH
X-WR-CALNAME:NEW Dueling Pianos
X-ORIGINAL-URL:https://newduelingpianos.com
X-WR-CALDESC:Events for NEW Dueling Pianos
REFRESH-INTERVAL;VALUE=DURATION:PT1H
X-Robots-Tag:noindex
X-PUBLISHED-TTL:PT1H
BEGIN:VTIMEZONE
TZID:America/Chicago
BEGIN:DAYLIGHT
TZOFFSETFROM:-0600
TZOFFSETTO:-0500
TZNAME:CDT
DTSTART:20250309T080000
END:DAYLIGHT
BEGIN:STANDARD
TZOFFSETFROM:-0500
TZOFFSETTO:-0600
TZNAME:CST
DTSTART:20251102T070000
END:STANDARD
BEGIN:DAYLIGHT
TZOFFSETFROM:-0600
TZOFFSETTO:-0500
TZNAME:CDT
DTSTART:20260308T080000
END:DAYLIGHT
BEGIN:STANDARD
TZOFFSETFROM:-0500
TZOFFSETTO:-0600
TZNAME:CST
DTSTART:20261101T070000
END:STANDARD
BEGIN:DAYLIGHT
TZOFFSETFROM:-0600
TZOFFSETTO:-0500
TZNAME:CDT
DTSTART:20270314T080000
END:DAYLIGHT
BEGIN:STANDARD
TZOFFSETFROM:-0500
TZOFFSETTO:-0600
TZNAME:CST
DTSTART:20271107T070000
END:STANDARD
END:VTIMEZONE
BEGIN:VEVENT
DTSTART;VALUE=DATE:20260609
DTEND;VALUE=DATE:20260610
DTSTAMP:20260422T070101
CREATED:20260224T033544Z
LAST-MODIFIED:20260413T181343Z
UID:10001651-1780963200-1781049599@newduelingpianos.com
SUMMARY:NEW Dueling Pianos - Live at The Leach - Oshkosh
DESCRIPTION:-DETAILS/INFO- \nhttps://www.visitoshkosh.com/event/new-dueling-pianos-live-at-the-leach-amphitheater-free-tuesday-night-concert/140874/ \n5:30pm Gates6-9pm show
URL:https://newduelingpianos.com/event/live-at-the-leach/
LOCATION:Leach Amphitheater\, 303 Ceape Ave\, Oshkosh\, WI\, United States
GEO:44.01446;-88.534697
X-APPLE-STRUCTURED-LOCATION;VALUE=URI;X-ADDRESS=Leach Amphitheater 303 Ceape Ave Oshkosh WI United States;X-APPLE-RADIUS=500;X-TITLE=303 Ceape Ave:geo:-88.534697,44.01446
END:VEVENT
END:VCALENDAR