BEGIN:VCALENDAR
VERSION:2.0
PRODID:-//NEW Dueling Pianos - ECPv6.15.20//NONSGML v1.0//EN
CALSCALE:GREGORIAN
METHOD:PUBLISH
X-ORIGINAL-URL:https://newduelingpianos.com
X-WR-CALDESC:Events for NEW Dueling Pianos
REFRESH-INTERVAL;VALUE=DURATION:PT1H
X-Robots-Tag:noindex
X-PUBLISHED-TTL:PT1H
BEGIN:VTIMEZONE
TZID:America/Chicago
BEGIN:DAYLIGHT
TZOFFSETFROM:-0600
TZOFFSETTO:-0500
TZNAME:CDT
DTSTART:20220313T080000
END:DAYLIGHT
BEGIN:STANDARD
TZOFFSETFROM:-0500
TZOFFSETTO:-0600
TZNAME:CST
DTSTART:20221106T070000
END:STANDARD
BEGIN:DAYLIGHT
TZOFFSETFROM:-0600
TZOFFSETTO:-0500
TZNAME:CDT
DTSTART:20230312T080000
END:DAYLIGHT
BEGIN:STANDARD
TZOFFSETFROM:-0500
TZOFFSETTO:-0600
TZNAME:CST
DTSTART:20231105T070000
END:STANDARD
BEGIN:DAYLIGHT
TZOFFSETFROM:-0600
TZOFFSETTO:-0500
TZNAME:CDT
DTSTART:20240310T080000
END:DAYLIGHT
BEGIN:STANDARD
TZOFFSETFROM:-0500
TZOFFSETTO:-0600
TZNAME:CST
DTSTART:20241103T070000
END:STANDARD
END:VTIMEZONE
BEGIN:VEVENT
DTSTART;VALUE=DATE:20230311
DTEND;VALUE=DATE:20230312
DTSTAMP:20260423T102401
CREATED:20221206T213249Z
LAST-MODIFIED:20230606T204841Z
UID:10001223-1678492800-1678579199@newduelingpianos.com
SUMMARY:SOLD OUT - Jackson Point at Crystal Springs - Seymour
DESCRIPTION:-TICKETS/INFO-Dinner and a Show! ◽◽◽️ \nJoin us on Saturday\, March 11th for a night of food\, fun\, toasts\, roasts\, and dueling pianos insanity! From Bruno to Billy\, ABBA to ZZ Top\, these guys are a great escape and a night you’ll be talking about long after they’re done! \nThis show will sell out – click the link above and get your tickets right away!
URL:https://newduelingpianos.com/event/jackson-point-at-crystal-springs-seymour/
LOCATION:Jackson Point Sports Grill & Banquet\, N8055 French Rd Suite A\, Seymour\, WI 54165\, USA
END:VEVENT
END:VCALENDAR