BEGIN:VCALENDAR
VERSION:2.0
PRODID:-//NEW Dueling Pianos - ECPv6.15.20//NONSGML v1.0//EN
CALSCALE:GREGORIAN
METHOD:PUBLISH
X-ORIGINAL-URL:https://newduelingpianos.com
X-WR-CALDESC:Events for NEW Dueling Pianos
REFRESH-INTERVAL;VALUE=DURATION:PT1H
X-Robots-Tag:noindex
X-PUBLISHED-TTL:PT1H
BEGIN:VTIMEZONE
TZID:America/Chicago
BEGIN:DAYLIGHT
TZOFFSETFROM:-0600
TZOFFSETTO:-0500
TZNAME:CDT
DTSTART:20220313T080000
END:DAYLIGHT
BEGIN:STANDARD
TZOFFSETFROM:-0500
TZOFFSETTO:-0600
TZNAME:CST
DTSTART:20221106T070000
END:STANDARD
BEGIN:DAYLIGHT
TZOFFSETFROM:-0600
TZOFFSETTO:-0500
TZNAME:CDT
DTSTART:20230312T080000
END:DAYLIGHT
BEGIN:STANDARD
TZOFFSETFROM:-0500
TZOFFSETTO:-0600
TZNAME:CST
DTSTART:20231105T070000
END:STANDARD
BEGIN:DAYLIGHT
TZOFFSETFROM:-0600
TZOFFSETTO:-0500
TZNAME:CDT
DTSTART:20240310T080000
END:DAYLIGHT
BEGIN:STANDARD
TZOFFSETFROM:-0500
TZOFFSETTO:-0600
TZNAME:CST
DTSTART:20241103T070000
END:STANDARD
END:VTIMEZONE
BEGIN:VEVENT
DTSTART;VALUE=DATE:20230712
DTEND;VALUE=DATE:20230713
DTSTAMP:20260425T081635
CREATED:20230127T013405Z
LAST-MODIFIED:20240829T003930Z
UID:10001261-1689120000-1689206399@newduelingpianos.com
SUMMARY:Concert in the Park - Sparta
DESCRIPTION:-INFO/DETAILS- \nJoin us on July 12th from 7-9pm for Concert in the Park with Dueling Pianos! Food will be available thanks to El Rey De Los Tacos and Schindoggies food trucks. The Chamber will be speaking and introducing the band as well. Sit back\, relax\, and enjoy Sparta’s favorite weekly summer tradition!
URL:https://newduelingpianos.com/event/concert-in-the-park-sparta-2/
LOCATION:Evans-Bosshard Park\, 224 East Ave\, Sparta\, WI\, United States
GEO:43.943148;-90.804996
X-APPLE-STRUCTURED-LOCATION;VALUE=URI;X-ADDRESS=Evans-Bosshard Park 224 East Ave Sparta WI United States;X-APPLE-RADIUS=500;X-TITLE=224 East Ave:geo:-90.804996,43.943148
END:VEVENT
END:VCALENDAR