BEGIN:VCALENDAR
VERSION:2.0
PRODID:-//NEW Dueling Pianos - ECPv6.15.20//NONSGML v1.0//EN
CALSCALE:GREGORIAN
METHOD:PUBLISH
X-ORIGINAL-URL:https://newduelingpianos.com
X-WR-CALDESC:Events for NEW Dueling Pianos
REFRESH-INTERVAL;VALUE=DURATION:PT1H
X-Robots-Tag:noindex
X-PUBLISHED-TTL:PT1H
BEGIN:VTIMEZONE
TZID:America/Chicago
BEGIN:DAYLIGHT
TZOFFSETFROM:-0600
TZOFFSETTO:-0500
TZNAME:CDT
DTSTART:20230312T080000
END:DAYLIGHT
BEGIN:STANDARD
TZOFFSETFROM:-0500
TZOFFSETTO:-0600
TZNAME:CST
DTSTART:20231105T070000
END:STANDARD
BEGIN:DAYLIGHT
TZOFFSETFROM:-0600
TZOFFSETTO:-0500
TZNAME:CDT
DTSTART:20240310T080000
END:DAYLIGHT
BEGIN:STANDARD
TZOFFSETFROM:-0500
TZOFFSETTO:-0600
TZNAME:CST
DTSTART:20241103T070000
END:STANDARD
BEGIN:DAYLIGHT
TZOFFSETFROM:-0600
TZOFFSETTO:-0500
TZNAME:CDT
DTSTART:20250309T080000
END:DAYLIGHT
BEGIN:STANDARD
TZOFFSETFROM:-0500
TZOFFSETTO:-0600
TZNAME:CST
DTSTART:20251102T070000
END:STANDARD
BEGIN:DAYLIGHT
TZOFFSETFROM:-0600
TZOFFSETTO:-0500
TZNAME:CDT
DTSTART:20260308T080000
END:DAYLIGHT
BEGIN:STANDARD
TZOFFSETFROM:-0500
TZOFFSETTO:-0600
TZNAME:CST
DTSTART:20261101T070000
END:STANDARD
END:VTIMEZONE
BEGIN:VEVENT
DTSTART;VALUE=DATE:20250620
DTEND;VALUE=DATE:20250621
DTSTAMP:20260422T073735
CREATED:20241209T164001Z
LAST-MODIFIED:20260317T182933Z
UID:10001520-1750377600-1750463999@newduelingpianos.com
SUMMARY:Fridays on the Fox - Green Bay
DESCRIPTION:-INFO/DETAILS-  \n6-9pm \nGet ready to groove at Fridays on the Fox presented by Associated Bank & Pomp’s Tire! It’s your ultimate Friday night destination for live music\, food and drinks\, and sunset views of the Fox River. From country to rock to Americana\, these upbeat free live music performances will have you on your feet and singing along! \nHagemeister Park will be serving food and drinks on their patio starting at 5 p.m. \nSome seating will be available\, but all are encouraged to bring lawn chairs for a guaranteed spot! \nhttps://downtowngreenbay.com/explore/downtown-events/fridays-on-the-fox
URL:https://newduelingpianos.com/event/on-the-fox-green-bay/
LOCATION:CityDeck Landing\, 399 N Washington St\, Green Bay\, WI\, United States
GEO:44.517126;-88.014189
X-APPLE-STRUCTURED-LOCATION;VALUE=URI;X-ADDRESS=CityDeck Landing 399 N Washington St Green Bay WI United States;X-APPLE-RADIUS=500;X-TITLE=399 N Washington St:geo:-88.014189,44.517126
END:VEVENT
BEGIN:VEVENT
DTSTART;VALUE=DATE:20240614
DTEND;VALUE=DATE:20240615
DTSTAMP:20260422T073735
CREATED:20240125T182549Z
LAST-MODIFIED:20260317T182823Z
UID:10001417-1718323200-1718409599@newduelingpianos.com
SUMMARY:Fridays on the Fox
DESCRIPTION:https://facebook.com/events/s/fridays-on-the-fox-ft-new-duel/3174807832651930/\nWe’re back for another night of craziness on the CityDeck!  Get there early\, stay late?\nSummers in Green Bay!  Join us on June 14th!\nI think we start at 6!  We’ll post better info as the date gets closer!
URL:https://newduelingpianos.com/event/fridays-on-the-fox/
LOCATION:CityDeck Landing\, 399 N Washington St\, Green Bay\, WI\, United States
GEO:44.517126;-88.014189
X-APPLE-STRUCTURED-LOCATION;VALUE=URI;X-ADDRESS=CityDeck Landing 399 N Washington St Green Bay WI United States;X-APPLE-RADIUS=500;X-TITLE=399 N Washington St:geo:-88.014189,44.517126
END:VEVENT
END:VCALENDAR