BEGIN:VCALENDAR
VERSION:2.0
PRODID:-//NEW Dueling Pianos - ECPv6.15.20//NONSGML v1.0//EN
CALSCALE:GREGORIAN
METHOD:PUBLISH
X-WR-CALNAME:NEW Dueling Pianos
X-ORIGINAL-URL:https://newduelingpianos.com
X-WR-CALDESC:Events for NEW Dueling Pianos
REFRESH-INTERVAL;VALUE=DURATION:PT1H
X-Robots-Tag:noindex
X-PUBLISHED-TTL:PT1H
BEGIN:VTIMEZONE
TZID:America/Chicago
BEGIN:DAYLIGHT
TZOFFSETFROM:-0600
TZOFFSETTO:-0500
TZNAME:CDT
DTSTART:20250309T080000
END:DAYLIGHT
BEGIN:STANDARD
TZOFFSETFROM:-0500
TZOFFSETTO:-0600
TZNAME:CST
DTSTART:20251102T070000
END:STANDARD
BEGIN:DAYLIGHT
TZOFFSETFROM:-0600
TZOFFSETTO:-0500
TZNAME:CDT
DTSTART:20260308T080000
END:DAYLIGHT
BEGIN:STANDARD
TZOFFSETFROM:-0500
TZOFFSETTO:-0600
TZNAME:CST
DTSTART:20261101T070000
END:STANDARD
BEGIN:DAYLIGHT
TZOFFSETFROM:-0600
TZOFFSETTO:-0500
TZNAME:CDT
DTSTART:20270314T080000
END:DAYLIGHT
BEGIN:STANDARD
TZOFFSETFROM:-0500
TZOFFSETTO:-0600
TZNAME:CST
DTSTART:20271107T070000
END:STANDARD
END:VTIMEZONE
BEGIN:VEVENT
DTSTART;VALUE=DATE:20260305
DTEND;VALUE=DATE:20260306
DTSTAMP:20260423T092448
CREATED:20250826T175711Z
LAST-MODIFIED:20260317T183022Z
UID:10001606-1772668800-1772755199@newduelingpianos.com
SUMMARY:SOLD OUT!! Bucyrus Club - South Milwaukee
DESCRIPTION:-TICKETS/INFO-   \nTo order\, email Ernie Wunsch at ernie@skylinecatering.com or call 414-294-4808. \nJoin us for a night you won’t forget! \nIt starts with a gourmet dinner\, followed by an interactive\, high-energy show featuring two talented piano entertainers playing audience requests across genres. Expect great food and great fun\, comedy\, singalongs\, and musical “battles.”And check out this menu from Executive Chef Connor Murdoch and his team. It starts with our famous assortment of appetizers.  \nThen dinner …*Wedge salad with homemade dressing*Duel plate of prime sirloin au poivre and bourbon glazed seared chicken breast*Truffle mashed potatoes*Vegetable medley*Dessert: Creme Brulee with fresh berries \nCost is $89 per person for premium seats (closer to the stage; limited number available) or $79 per person for general seating. Dinner is included. We will be seating in tables of eight\, so if you are a party of less than that\, you may be sitting with other guests. \nJust 150 tickets are available! To order\, email Ernie Wunsch at ernie@skylinecatering.com or call 414-294-4808.
URL:https://newduelingpianos.com/event/bucyrus-club-south-milwaukee/
LOCATION:Bucyrus Club & Event Center – 1919 12th Ave\, South Milwaukee\, WI\, United States
GEO:42.91057;-87.86064
END:VEVENT
END:VCALENDAR