BEGIN:VCALENDAR
VERSION:2.0
PRODID:-//NEW Dueling Pianos - ECPv6.15.20//NONSGML v1.0//EN
CALSCALE:GREGORIAN
METHOD:PUBLISH
X-ORIGINAL-URL:https://newduelingpianos.com
X-WR-CALDESC:Events for NEW Dueling Pianos
REFRESH-INTERVAL;VALUE=DURATION:PT1H
X-Robots-Tag:noindex
X-PUBLISHED-TTL:PT1H
BEGIN:VTIMEZONE
TZID:America/Chicago
BEGIN:DAYLIGHT
TZOFFSETFROM:-0600
TZOFFSETTO:-0500
TZNAME:CDT
DTSTART:20210314T080000
END:DAYLIGHT
BEGIN:STANDARD
TZOFFSETFROM:-0500
TZOFFSETTO:-0600
TZNAME:CST
DTSTART:20211107T070000
END:STANDARD
BEGIN:DAYLIGHT
TZOFFSETFROM:-0600
TZOFFSETTO:-0500
TZNAME:CDT
DTSTART:20220313T080000
END:DAYLIGHT
BEGIN:STANDARD
TZOFFSETFROM:-0500
TZOFFSETTO:-0600
TZNAME:CST
DTSTART:20221106T070000
END:STANDARD
BEGIN:DAYLIGHT
TZOFFSETFROM:-0600
TZOFFSETTO:-0500
TZNAME:CDT
DTSTART:20230312T080000
END:DAYLIGHT
BEGIN:STANDARD
TZOFFSETFROM:-0500
TZOFFSETTO:-0600
TZNAME:CST
DTSTART:20231105T070000
END:STANDARD
BEGIN:DAYLIGHT
TZOFFSETFROM:-0600
TZOFFSETTO:-0500
TZNAME:CDT
DTSTART:20240310T080000
END:DAYLIGHT
BEGIN:STANDARD
TZOFFSETFROM:-0500
TZOFFSETTO:-0600
TZNAME:CST
DTSTART:20241103T070000
END:STANDARD
END:VTIMEZONE
BEGIN:VEVENT
DTSTART;VALUE=DATE:20230909
DTEND;VALUE=DATE:20230910
DTSTAMP:20260424T063222
CREATED:20230526T200246Z
LAST-MODIFIED:20230819T210626Z
UID:10001315-1694217600-1694303999@newduelingpianos.com
SUMMARY:Blue Heron - Eagle River
DESCRIPTION:-TICKETS/INFO-  Coming Soon!
URL:https://newduelingpianos.com/event/blue-heron-eagle-river-3/
LOCATION:Blue Heron Restaurant\, 4443 Chain O Lakes Rd\, Eagle River\, WI 54521\, USA
END:VEVENT
BEGIN:VEVENT
DTSTART;VALUE=DATE:20230114
DTEND;VALUE=DATE:20230115
DTSTAMP:20260424T063222
CREATED:20230104T001754Z
LAST-MODIFIED:20230606T204837Z
UID:10001239-1673654400-1673740799@newduelingpianos.com
SUMMARY:Blue Heron - Eagle River
DESCRIPTION:-TICKETS/INFO-  \nBack again\, January 14th – one show ONLY! DO NOT MISS THIS! Break up your winter doldrums for a fun and crazy night with Wisconsin’s Very Own Dueling Piano entertainment – NEW Dueling Pianos! \nDoors open at 5:30\, show starts at 7:00. \nCall ahead to reserve your dinner reservation before the show. \nTaking Reservations NOW –Call (715) 337-2144
URL:https://newduelingpianos.com/event/blue-heron-eagle-river-2/
LOCATION:Blue Heron Restaurant\, 4443 Chain O Lakes Rd\, Eagle River\, WI 54521\, USA
END:VEVENT
BEGIN:VEVENT
DTSTART;VALUE=DATE:20220826
DTEND;VALUE=DATE:20220827
DTSTAMP:20260424T063222
CREATED:20220805T172926Z
LAST-MODIFIED:20230606T204827Z
UID:10000929-1661472000-1661558399@newduelingpianos.com
SUMMARY:Blue Heron - Eagle River
DESCRIPTION:-TICKETS/INFO- \nSuch a fun time the first time around!  If you were there… You KNOW! \nDoors open at 5pm. \nShow is from 7-10pm!   \nhttps://blueheron.ticketbud.com/npg8-26
URL:https://newduelingpianos.com/event/blue-heron-eagle-river/
LOCATION:Blue Heron Restaurant\, 4443 Chain O Lakes Rd\, Eagle River\, WI 54521\, USA
END:VEVENT
END:VCALENDAR