BEGIN:VCALENDAR
VERSION:2.0
PRODID:-//NEW Dueling Pianos - ECPv6.15.20//NONSGML v1.0//EN
CALSCALE:GREGORIAN
METHOD:PUBLISH
X-WR-CALNAME:NEW Dueling Pianos
X-ORIGINAL-URL:https://newduelingpianos.com
X-WR-CALDESC:Events for NEW Dueling Pianos
REFRESH-INTERVAL;VALUE=DURATION:PT1H
X-Robots-Tag:noindex
X-PUBLISHED-TTL:PT1H
BEGIN:VTIMEZONE
TZID:America/Chicago
BEGIN:DAYLIGHT
TZOFFSETFROM:-0600
TZOFFSETTO:-0500
TZNAME:CDT
DTSTART:20240310T080000
END:DAYLIGHT
BEGIN:STANDARD
TZOFFSETFROM:-0500
TZOFFSETTO:-0600
TZNAME:CST
DTSTART:20241103T070000
END:STANDARD
BEGIN:DAYLIGHT
TZOFFSETFROM:-0600
TZOFFSETTO:-0500
TZNAME:CDT
DTSTART:20250309T080000
END:DAYLIGHT
BEGIN:STANDARD
TZOFFSETFROM:-0500
TZOFFSETTO:-0600
TZNAME:CST
DTSTART:20251102T070000
END:STANDARD
BEGIN:DAYLIGHT
TZOFFSETFROM:-0600
TZOFFSETTO:-0500
TZNAME:CDT
DTSTART:20260308T080000
END:DAYLIGHT
BEGIN:STANDARD
TZOFFSETFROM:-0500
TZOFFSETTO:-0600
TZNAME:CST
DTSTART:20261101T070000
END:STANDARD
END:VTIMEZONE
BEGIN:VEVENT
DTSTART;VALUE=DATE:20251025
DTEND;VALUE=DATE:20251026
DTSTAMP:20260419T130303
CREATED:20241124T152450Z
LAST-MODIFIED:20260317T182949Z
UID:10001517-1761350400-1761436799@newduelingpianos.com
SUMMARY:Beaver Dam Area Community Theatre
DESCRIPTION:-TICKETS/INFO- \nMake plans to become one of the thousands of people who have experienced the truly one-of-kind experience that only “The Guys” deliver! Their Dueling Pianos show featuring songs from Billy Joel to Britney Spears to Bruno Mars is one of the most sought-after (and SOLD OUT) shows in Wisconsin! You won’t want to miss it! \n7:30 Showtime – click the link above to get your tickets!
URL:https://newduelingpianos.com/event/beaver-dam-area-community-theatre-2/
LOCATION:BDACT – 117 W Maple Ave\, Beaver Dam\, WI\, United States
GEO:43.466482;-88.862852
END:VEVENT
END:VCALENDAR