BEGIN:VCALENDAR
VERSION:2.0
PRODID:-//NEW Dueling Pianos - ECPv6.15.20//NONSGML v1.0//EN
CALSCALE:GREGORIAN
METHOD:PUBLISH
X-WR-CALNAME:NEW Dueling Pianos
X-ORIGINAL-URL:https://newduelingpianos.com
X-WR-CALDESC:Events for NEW Dueling Pianos
REFRESH-INTERVAL;VALUE=DURATION:PT1H
X-Robots-Tag:noindex
X-PUBLISHED-TTL:PT1H
BEGIN:VTIMEZONE
TZID:America/Chicago
BEGIN:DAYLIGHT
TZOFFSETFROM:-0600
TZOFFSETTO:-0500
TZNAME:CDT
DTSTART:20210314T080000
END:DAYLIGHT
BEGIN:STANDARD
TZOFFSETFROM:-0500
TZOFFSETTO:-0600
TZNAME:CST
DTSTART:20211107T070000
END:STANDARD
BEGIN:DAYLIGHT
TZOFFSETFROM:-0600
TZOFFSETTO:-0500
TZNAME:CDT
DTSTART:20220313T080000
END:DAYLIGHT
BEGIN:STANDARD
TZOFFSETFROM:-0500
TZOFFSETTO:-0600
TZNAME:CST
DTSTART:20221106T070000
END:STANDARD
BEGIN:DAYLIGHT
TZOFFSETFROM:-0600
TZOFFSETTO:-0500
TZNAME:CDT
DTSTART:20230312T080000
END:DAYLIGHT
BEGIN:STANDARD
TZOFFSETFROM:-0500
TZOFFSETTO:-0600
TZNAME:CST
DTSTART:20231105T070000
END:STANDARD
BEGIN:DAYLIGHT
TZOFFSETFROM:-0600
TZOFFSETTO:-0500
TZNAME:CDT
DTSTART:20240310T080000
END:DAYLIGHT
BEGIN:STANDARD
TZOFFSETFROM:-0500
TZOFFSETTO:-0600
TZNAME:CST
DTSTART:20241103T070000
END:STANDARD
END:VTIMEZONE
BEGIN:VEVENT
DTSTART;VALUE=DATE:20230827
DTEND;VALUE=DATE:20230828
DTSTAMP:20260425T071658
CREATED:20230524T193412Z
LAST-MODIFIED:20230821T210624Z
UID:10001314-1693094400-1693180799@newduelingpianos.com
SUMMARY:Pay it Forward\, Ethiopia - Green Bay
DESCRIPTION:-TICKETS/INFO- \nDoors Open at 5:30 PMShow Begins at 6:30 PM \nTickets:Preorder: $30Door Price: $40 \nBeverages Available for Purchase
URL:https://newduelingpianos.com/event/pay-it-forward-ethiopia-green-bay/
LOCATION:Badger State Brewing Company\, 990 Tony Canadeo Run\, Green Bay\, WI 54304\, USA
END:VEVENT
BEGIN:VEVENT
DTSTART;VALUE=DATE:20221104
DTEND;VALUE=DATE:20221105
DTSTAMP:20260425T071658
CREATED:20220805T172937Z
LAST-MODIFIED:20230606T204832Z
UID:10000959-1667520000-1667606399@newduelingpianos.com
SUMMARY:Jammin For Cure - Green Bay
DESCRIPTION:-TICKETS/INFO-  \nBack by popular demand\, Badger State Brewing will be hosting Jammin’ for a Cure on Friday\, November 4!  \nThis year’s event will match last year’s fun while we listen and request our favorite songs from NEW Dueling Pianos (formerly the NEW Piano Guys) to play\, while we raise important funds needed to assist kids with juvenile arthritis.  \nAt this year’s event\, you will hear from our Medical Honoree\, Adult Honoree and our Youth Honorees tell their personal stories and experiences with arthritis. To register visit: www.arthritis.org/jamminforacurewi
URL:https://newduelingpianos.com/event/jammin-for-cure-green-bay/
LOCATION:Badger State Brewing Company\, 990 Tony Canadeo Run\, Green Bay\, WI 54304\, USA
END:VEVENT
END:VCALENDAR