BEGIN:VCALENDAR
VERSION:2.0
PRODID:-//NEW Dueling Pianos - ECPv6.15.20//NONSGML v1.0//EN
CALSCALE:GREGORIAN
METHOD:PUBLISH
X-WR-CALNAME:NEW Dueling Pianos
X-ORIGINAL-URL:https://newduelingpianos.com
X-WR-CALDESC:Events for NEW Dueling Pianos
REFRESH-INTERVAL;VALUE=DURATION:PT1H
X-Robots-Tag:noindex
X-PUBLISHED-TTL:PT1H
BEGIN:VTIMEZONE
TZID:America/Chicago
BEGIN:DAYLIGHT
TZOFFSETFROM:-0600
TZOFFSETTO:-0500
TZNAME:CDT
DTSTART:20230312T080000
END:DAYLIGHT
BEGIN:STANDARD
TZOFFSETFROM:-0500
TZOFFSETTO:-0600
TZNAME:CST
DTSTART:20231105T070000
END:STANDARD
BEGIN:DAYLIGHT
TZOFFSETFROM:-0600
TZOFFSETTO:-0500
TZNAME:CDT
DTSTART:20240310T080000
END:DAYLIGHT
BEGIN:STANDARD
TZOFFSETFROM:-0500
TZOFFSETTO:-0600
TZNAME:CST
DTSTART:20241103T070000
END:STANDARD
BEGIN:DAYLIGHT
TZOFFSETFROM:-0600
TZOFFSETTO:-0500
TZNAME:CDT
DTSTART:20250309T080000
END:DAYLIGHT
BEGIN:STANDARD
TZOFFSETFROM:-0500
TZOFFSETTO:-0600
TZNAME:CST
DTSTART:20251102T070000
END:STANDARD
END:VTIMEZONE
BEGIN:VEVENT
DTSTART;VALUE=DATE:20240426
DTEND;VALUE=DATE:20240427
DTSTAMP:20260420T013622
CREATED:20240109T162524Z
LAST-MODIFIED:20240829T004005Z
UID:10001398-1714089600-1714175999@newduelingpianos.com
SUMMARY:Hartford Select Baseball Club Fundraiser - Slinger
DESCRIPTION:-TICKETS/INFO-   \nPlease join us for a night of music and fun!  The Hartford Select Baseball Club is hosting a Dueling Pianos Night at Aspen Sky in Slinger on April 26\, 2024.  NEW Dueling Pianos\, Wisconsin’s very own Dueling Piano Entertainment\, will be performing from 7:00 PM-10:00 PM.   Their request-based interactive\, hilarious\, sing-along/clap-along\, request-driven show covers practically every music genre!  All ticket sales and tips will 100% go back to the Hartford Select Baseball Club. \nHSBC Dueling Pianos Night 🎹 This is not just for the HSBC\, this is a public event so please share with your families and friends!  \nPurchase your tickets now!  See you at the show!
URL:https://newduelingpianos.com/event/hartford-select-baseball-club-fundraiser-slinger/
LOCATION:Aspen Sky\, 3600 Enterprise Dr\, Sheboygan\, WI\, United States
GEO:43.786155;-87.758378
X-APPLE-STRUCTURED-LOCATION;VALUE=URI;X-ADDRESS=Aspen Sky 3600 Enterprise Dr Sheboygan WI United States;X-APPLE-RADIUS=500;X-TITLE=3600 Enterprise Dr:geo:-87.758378,43.786155
END:VEVENT
END:VCALENDAR