BEGIN:VCALENDAR
VERSION:2.0
PRODID:-//NEW Dueling Pianos - ECPv6.15.20//NONSGML v1.0//EN
CALSCALE:GREGORIAN
METHOD:PUBLISH
X-ORIGINAL-URL:https://newduelingpianos.com
X-WR-CALDESC:Events for NEW Dueling Pianos
REFRESH-INTERVAL;VALUE=DURATION:PT1H
X-Robots-Tag:noindex
X-PUBLISHED-TTL:PT1H
BEGIN:VTIMEZONE
TZID:America/Chicago
BEGIN:DAYLIGHT
TZOFFSETFROM:-0600
TZOFFSETTO:-0500
TZNAME:CDT
DTSTART:20240310T080000
END:DAYLIGHT
BEGIN:STANDARD
TZOFFSETFROM:-0500
TZOFFSETTO:-0600
TZNAME:CST
DTSTART:20241103T070000
END:STANDARD
BEGIN:DAYLIGHT
TZOFFSETFROM:-0600
TZOFFSETTO:-0500
TZNAME:CDT
DTSTART:20250309T080000
END:DAYLIGHT
BEGIN:STANDARD
TZOFFSETFROM:-0500
TZOFFSETTO:-0600
TZNAME:CST
DTSTART:20251102T070000
END:STANDARD
BEGIN:DAYLIGHT
TZOFFSETFROM:-0600
TZOFFSETTO:-0500
TZNAME:CDT
DTSTART:20260308T080000
END:DAYLIGHT
BEGIN:STANDARD
TZOFFSETFROM:-0500
TZOFFSETTO:-0600
TZNAME:CST
DTSTART:20261101T070000
END:STANDARD
END:VTIMEZONE
BEGIN:VEVENT
DTSTART;VALUE=DATE:20250403
DTEND;VALUE=DATE:20250404
DTSTAMP:20260422T081839
CREATED:20240720T224027Z
LAST-MODIFIED:20260317T182920Z
UID:10001478-1743638400-1743724799@newduelingpianos.com
SUMMARY:Private Customer Event - Green Bay
DESCRIPTION:
URL:https://newduelingpianos.com/event/private-customer-event-green-bay/
END:VEVENT
BEGIN:VEVENT
DTSTART;VALUE=DATE:20250404
DTEND;VALUE=DATE:20250405
DTSTAMP:20260422T081839
CREATED:20241028T234043Z
LAST-MODIFIED:20260317T182922Z
UID:10001509-1743724800-1743811199@newduelingpianos.com
SUMMARY:Fremont River Deck - Fremont
DESCRIPTION:-TICKETS/INFO-  \nNew Dueling Pianos is bringing their interactive\, request-driven\, and high energy dueling pianos show to The Fremont River Deck! Enjoy a fun night with “the guys” showcasing your favorite requests – ranging from Billy to Britney to Bruno – delivering it only the way “The Guys” can! Having delivered 100s of shows across Wisconsin\, their combined entertainment experience has wowed 1000s – delivering covers of practically every music genre in their shows. Their request-based ridiculously fun dueling pianos show is part comedy\, part concert\, and one-of-a-kind experience. \nDoors open at 6:00pm | Dueling Pianos at 7:00pm \nBe careful of scammer posts about tickets. This is the only link you can get them. When you purchase your tickets: your able to choose your seat location. Tables 1-12 have cocktail service!
URL:https://newduelingpianos.com/event/fremont-river-deck-fremont-2/
LOCATION:Fremont Riverdeck – 204 Wolf River Dr\, Fremont\, WI\, United States
GEO:44.272779;-88.833282
END:VEVENT
BEGIN:VEVENT
DTSTART;VALUE=DATE:20250404
DTEND;VALUE=DATE:20250405
DTSTAMP:20260422T081839
CREATED:20250128T194106Z
LAST-MODIFIED:20260317T182921Z
UID:10001532-1743724800-1743811199@newduelingpianos.com
SUMMARY:SOLD OUT!! Bub's Irish Pub - Germantown
DESCRIPTION:-TICKETS/INFO- Bringin’ it BACK to Bub’s Irish Pub! \nJoin us in Germantown\, as we deliver your favorite requested songs in a way that only WE can! \nReserved seats are available NOW for this fast-paced and hilariously entertaining event! \nDoors at 6pm – Show from 8-11pm \nReserved Seats – $25 – Standing Room Only – $15 \nGet your groups together\, as April 4th will be a night you won’t soon forget! NEW Dueling Pianos has performed HUNDREDS of crazy-fun shows to thousands statewide! \nCome out and see why “The Guys” are one of the most ‘in demand’ shows in WI!  Get your seats\, SEE YOU THERE!
URL:https://newduelingpianos.com/event/bubs-irish-pub-germantown-2/
LOCATION:Bub’s Irish Pub\, 16026 Main St\, Germantown\, WI\, United States
GEO:43.228239;-88.109332
X-APPLE-STRUCTURED-LOCATION;VALUE=URI;X-ADDRESS=Bub’s Irish Pub 16026 Main St Germantown WI United States;X-APPLE-RADIUS=500;X-TITLE=16026 Main St:geo:-88.109332,43.228239
END:VEVENT
BEGIN:VEVENT
DTSTART;VALUE=DATE:20250405
DTEND;VALUE=DATE:20250406
DTSTAMP:20260422T081839
CREATED:20241209T163959Z
LAST-MODIFIED:20260317T182921Z
UID:10001519-1743811200-1743897599@newduelingpianos.com
SUMMARY:Loyal Fire Fund Fundraiser - Chili\, WI
DESCRIPTION:-TICKETS/INFO- \nBackstory:\nOn Thursday September 14\, 2024\, a massive fire engulfed three buildings on Loyal’s historic Main Street. The buildings housed local businesses as well as private residences. Every building was a total loss\, and the expenses incurred were many. Please join in on this great event\, Dueling Pianos\, to relieve some financial burden on those that lost it all.\nDoors Open at 5pm\nGeneral Admission – $40\n7 VIP tables – call for pricing/availability\nONLY 100 tickets sold\nFor tickets and info call\nAmanda – (715) 613-9519 or\nHair We Are – (715) 503-1094\n*In House Event Extras*\n–>Gift card raffle\n–>Bucket raffles\n–>50/50\n**Please note\, this is a cash only event. Atm is available on site\nAll proceeds go to the Loyal Fire Fund\nMonetary donations can be made:\nAny Citizens State Bank location
URL:https://newduelingpianos.com/event/loyal-fundraiser/
LOCATION:Chili Corners Club\, Chili\, WI\, United States
GEO:44.606893;-90.375852
END:VEVENT
BEGIN:VEVENT
DTSTART;VALUE=DATE:20250411
DTEND;VALUE=DATE:20250412
DTSTAMP:20260422T081839
CREATED:20250130T194058Z
LAST-MODIFIED:20260317T182923Z
UID:10001533-1744329600-1744415999@newduelingpianos.com
SUMMARY:Holyland Civic Center - St. Cloud
DESCRIPTION:-TICKETS/INFO- \nJoin us at the Holyland Civic Center on FRIDAY\, April 11\, 2025 for drinks\, food\, raffles and a lot of laughs! \n21 years and older ONLY! \nDoors open at 5:30pm for drinks\, snacks\, sandwiches and raffles. \nShow start at 7:00pm SHARP!  \nBring your friends\, families\, co-workers\, etc. for a night of fun!  \nHolyland Civic Center is a place that many area children use for basketball\, volleyball and various other sports. Come support us…it’s for the kids!!
URL:https://newduelingpianos.com/event/holyland-civic-center-st-cloud/
LOCATION:St Cloud Athletic Club\, 911 Main St\, Saint Cloud\, WI\, United States
GEO:43.820596;-88.166199
X-APPLE-STRUCTURED-LOCATION;VALUE=URI;X-ADDRESS=St Cloud Athletic Club 911 Main St Saint Cloud WI United States;X-APPLE-RADIUS=500;X-TITLE=911 Main St:geo:-88.166199,43.820596
END:VEVENT
BEGIN:VEVENT
DTSTART;VALUE=DATE:20250412
DTEND;VALUE=DATE:20250413
DTSTAMP:20260422T081839
CREATED:20240806T234044Z
LAST-MODIFIED:20260317T182923Z
UID:10001483-1744416000-1744502399@newduelingpianos.com
SUMMARY:Pink Heals Fundraiser - Kohler
DESCRIPTION:-TICKETS/INFO- \nJoin us as we host our 6th annual Dueling Pianos fundraiser event.\nSaturday April 12\, 2025\nDoors open at 5 pm with show time at 7 pm.\nThe Village 170\nTickets: $20\nTickets available for purchase at:\n-Blattner’s Piggly Wiggly\n-The Village at 170\n-Harbor Lights Bar (sheb)\n-Night of at the door or by private messaging the FB page\nNew this year: We’ve partnered with local restaurants for food delivery! More details soon!\nAll money raised will go directly to Pink Heals Sheboygan County which in return will be given back to those in need in Sheboygan County!
URL:https://newduelingpianos.com/event/pink-heals-fundraiser-kohler-2/
LOCATION:The Village at 170\, 170 Rangeline Rd\, Kohler\, WI\, United States
GEO:43.74004;-87.800201
X-APPLE-STRUCTURED-LOCATION;VALUE=URI;X-ADDRESS=The Village at 170 170 Rangeline Rd Kohler WI United States;X-APPLE-RADIUS=500;X-TITLE=170 Rangeline Rd:geo:-87.800201,43.74004
END:VEVENT
BEGIN:VEVENT
DTSTART;VALUE=DATE:20250418
DTEND;VALUE=DATE:20250419
DTSTAMP:20260422T081839
CREATED:20241123T151006Z
LAST-MODIFIED:20260317T182924Z
UID:10001516-1744934400-1745020799@newduelingpianos.com
SUMMARY:SOLD OUT!!  Rush Creek Distilling - Harvard\, IL
DESCRIPTION:-TICKETS/INFO-  \nBack by Popular Demand! \nCome see Wisconsin’s premier dueling piano group – the NEW Dueling Pianos. \nEnjoy a fun night of music favorites ranging from Billy Joel to Britney Spears to Bruno Mars! The NEW Dueling Pianos are the perfect combination of concert\, comedy & creativity – come be a part of an unforgettable night! \nFriday\, April 18th | 7 – 10 PM \nDoors Open at 4 PM (first come\, first seated-no reservations) \nVIP tables are sold out.  \nSmash’D Burger Food Truck serving 5 – 9 PM \nUpstairs Loft Bar will be open.
URL:https://newduelingpianos.com/event/rush-creek-distilling-harvard-il-6/
LOCATION:Rush Creek Distilling\, 1501 W Diggins St\, Harvard\, IL\, United States
GEO:42.422148;-88.62727
X-APPLE-STRUCTURED-LOCATION;VALUE=URI;X-ADDRESS=Rush Creek Distilling 1501 W Diggins St Harvard IL United States;X-APPLE-RADIUS=500;X-TITLE=1501 W Diggins St:geo:-88.62727,42.422148
END:VEVENT
BEGIN:VEVENT
DTSTART;VALUE=DATE:20250419
DTEND;VALUE=DATE:20250420
DTSTAMP:20260422T081839
CREATED:20250315T161105Z
LAST-MODIFIED:20250414T175607Z
UID:10001553-1745020800-1745107199@newduelingpianos.com
SUMMARY:Maloney's - Kaukauna
DESCRIPTION:-TICKETS/INFO- \nThe NEW Dueling Pianos are bringing their riveting\, raunchy\, request-based\, fun filled interactive event to Maloney’s!  \nThat’s right Fox Valley! Get it on your calendar right now!  Wisconsin’s very own Dueling Piano entertainment is coming to Kaukauna!  We’ll be tearing up The Venue At Maloney’s with our hilariously interactive\, request-based\, full contact\, total impact Dueling Pianos Show!  Delivering your favorite songs in a way that only ‘The Guys’ can!  Get your tickets now\, as it’s gunna be a heck of a party!  See you there!! \nDoors at 6pmShow from 7-10pm
URL:https://newduelingpianos.com/event/maloneys-kaukauna/
LOCATION:The Venue at Maloney’s\, 101 Maloney Rd\, Kaukauna\, WI\, United States
GEO:44.296295;-88.271795
X-APPLE-STRUCTURED-LOCATION;VALUE=URI;X-ADDRESS=The Venue at Maloney’s 101 Maloney Rd Kaukauna WI United States;X-APPLE-RADIUS=500;X-TITLE=101 Maloney Rd:geo:-88.271795,44.296295
END:VEVENT
BEGIN:VEVENT
DTSTART;VALUE=DATE:20250423
DTEND;VALUE=DATE:20250424
DTSTAMP:20260422T081839
CREATED:20250316T162607Z
LAST-MODIFIED:20260317T182924Z
UID:10001554-1745366400-1745452799@newduelingpianos.com
SUMMARY:Private Event - Appleton
DESCRIPTION:
URL:https://newduelingpianos.com/event/private-event-appleton-2/
END:VEVENT
END:VCALENDAR