BEGIN:VCALENDAR
VERSION:2.0
PRODID:-//NEW Dueling Pianos - ECPv6.15.20//NONSGML v1.0//EN
CALSCALE:GREGORIAN
METHOD:PUBLISH
X-ORIGINAL-URL:https://newduelingpianos.com
X-WR-CALDESC:Events for NEW Dueling Pianos
REFRESH-INTERVAL;VALUE=DURATION:PT1H
X-Robots-Tag:noindex
X-PUBLISHED-TTL:PT1H
BEGIN:VTIMEZONE
TZID:America/Chicago
BEGIN:DAYLIGHT
TZOFFSETFROM:-0600
TZOFFSETTO:-0500
TZNAME:CDT
DTSTART:20240310T080000
END:DAYLIGHT
BEGIN:STANDARD
TZOFFSETFROM:-0500
TZOFFSETTO:-0600
TZNAME:CST
DTSTART:20241103T070000
END:STANDARD
BEGIN:DAYLIGHT
TZOFFSETFROM:-0600
TZOFFSETTO:-0500
TZNAME:CDT
DTSTART:20250309T080000
END:DAYLIGHT
BEGIN:STANDARD
TZOFFSETFROM:-0500
TZOFFSETTO:-0600
TZNAME:CST
DTSTART:20251102T070000
END:STANDARD
BEGIN:DAYLIGHT
TZOFFSETFROM:-0600
TZOFFSETTO:-0500
TZNAME:CDT
DTSTART:20260308T080000
END:DAYLIGHT
BEGIN:STANDARD
TZOFFSETFROM:-0500
TZOFFSETTO:-0600
TZNAME:CST
DTSTART:20261101T070000
END:STANDARD
END:VTIMEZONE
BEGIN:VEVENT
DTSTART;VALUE=DATE:20250828
DTEND;VALUE=DATE:20250829
DTSTAMP:20260422T072611
CREATED:20250328T165656Z
LAST-MODIFIED:20260317T182941Z
UID:10001562-1756339200-1756425599@newduelingpianos.com
SUMMARY:Fall Fest - NWTC - Green Bay
DESCRIPTION:-INFO- \nFREE admission | Students\, staff\, friends\, and families welcomeCarnival games and bumper cars for all ages – come play! \nThe event starts at 2pm \nCatch NEW Dueling Pianos from 3:30-5:30! \nFood Trucks\n\nCaribbean Cruiser\nIce Clouds\nJ Dogz\nMai’s Fresh & Delicious Eggrolls\n\n \nNWTC students eat FREE!  Bring your valid student ID and receive vouchers for the food trucks.
URL:https://newduelingpianos.com/event/fall-fest-nwtc-green-bay/
LOCATION:Northeast Wisconsin Technical College\, 2740 W Mason St\, Green Bay\, WI\, United States
GEO:44.524032;-88.106259
X-APPLE-STRUCTURED-LOCATION;VALUE=URI;X-ADDRESS=Northeast Wisconsin Technical College 2740 W Mason St Green Bay WI United States;X-APPLE-RADIUS=500;X-TITLE=2740 W Mason St:geo:-88.106259,44.524032
END:VEVENT
END:VCALENDAR