BEGIN:VCALENDAR
VERSION:2.0
PRODID:-//NEW Dueling Pianos - ECPv6.15.20//NONSGML v1.0//EN
CALSCALE:GREGORIAN
METHOD:PUBLISH
X-WR-CALNAME:NEW Dueling Pianos
X-ORIGINAL-URL:https://newduelingpianos.com
X-WR-CALDESC:Events for NEW Dueling Pianos
REFRESH-INTERVAL;VALUE=DURATION:PT1H
X-Robots-Tag:noindex
X-PUBLISHED-TTL:PT1H
BEGIN:VTIMEZONE
TZID:America/Chicago
BEGIN:DAYLIGHT
TZOFFSETFROM:-0600
TZOFFSETTO:-0500
TZNAME:CDT
DTSTART:20240310T080000
END:DAYLIGHT
BEGIN:STANDARD
TZOFFSETFROM:-0500
TZOFFSETTO:-0600
TZNAME:CST
DTSTART:20241103T070000
END:STANDARD
BEGIN:DAYLIGHT
TZOFFSETFROM:-0600
TZOFFSETTO:-0500
TZNAME:CDT
DTSTART:20250309T080000
END:DAYLIGHT
BEGIN:STANDARD
TZOFFSETFROM:-0500
TZOFFSETTO:-0600
TZNAME:CST
DTSTART:20251102T070000
END:STANDARD
BEGIN:DAYLIGHT
TZOFFSETFROM:-0600
TZOFFSETTO:-0500
TZNAME:CDT
DTSTART:20260308T080000
END:DAYLIGHT
BEGIN:STANDARD
TZOFFSETFROM:-0500
TZOFFSETTO:-0600
TZNAME:CST
DTSTART:20261101T070000
END:STANDARD
END:VTIMEZONE
BEGIN:VEVENT
DTSTART;VALUE=DATE:20250404
DTEND;VALUE=DATE:20250405
DTSTAMP:20260422T065841
CREATED:20241028T234043Z
LAST-MODIFIED:20260317T182922Z
UID:10001509-1743724800-1743811199@newduelingpianos.com
SUMMARY:Fremont River Deck - Fremont
DESCRIPTION:-TICKETS/INFO-  \nNew Dueling Pianos is bringing their interactive\, request-driven\, and high energy dueling pianos show to The Fremont River Deck! Enjoy a fun night with “the guys” showcasing your favorite requests – ranging from Billy to Britney to Bruno – delivering it only the way “The Guys” can! Having delivered 100s of shows across Wisconsin\, their combined entertainment experience has wowed 1000s – delivering covers of practically every music genre in their shows. Their request-based ridiculously fun dueling pianos show is part comedy\, part concert\, and one-of-a-kind experience. \nDoors open at 6:00pm | Dueling Pianos at 7:00pm \nBe careful of scammer posts about tickets. This is the only link you can get them. When you purchase your tickets: your able to choose your seat location. Tables 1-12 have cocktail service!
URL:https://newduelingpianos.com/event/fremont-river-deck-fremont-2/
LOCATION:Fremont Riverdeck – 204 Wolf River Dr\, Fremont\, WI\, United States
GEO:44.272779;-88.833282
END:VEVENT
BEGIN:VEVENT
DTSTART;VALUE=DATE:20250404
DTEND;VALUE=DATE:20250405
DTSTAMP:20260422T065841
CREATED:20250128T194106Z
LAST-MODIFIED:20260317T182921Z
UID:10001532-1743724800-1743811199@newduelingpianos.com
SUMMARY:SOLD OUT!! Bub's Irish Pub - Germantown
DESCRIPTION:-TICKETS/INFO- Bringin’ it BACK to Bub’s Irish Pub! \nJoin us in Germantown\, as we deliver your favorite requested songs in a way that only WE can! \nReserved seats are available NOW for this fast-paced and hilariously entertaining event! \nDoors at 6pm – Show from 8-11pm \nReserved Seats – $25 – Standing Room Only – $15 \nGet your groups together\, as April 4th will be a night you won’t soon forget! NEW Dueling Pianos has performed HUNDREDS of crazy-fun shows to thousands statewide! \nCome out and see why “The Guys” are one of the most ‘in demand’ shows in WI!  Get your seats\, SEE YOU THERE!
URL:https://newduelingpianos.com/event/bubs-irish-pub-germantown-2/
LOCATION:Bub’s Irish Pub\, 16026 Main St\, Germantown\, WI\, United States
GEO:43.228239;-88.109332
X-APPLE-STRUCTURED-LOCATION;VALUE=URI;X-ADDRESS=Bub’s Irish Pub 16026 Main St Germantown WI United States;X-APPLE-RADIUS=500;X-TITLE=16026 Main St:geo:-88.109332,43.228239
END:VEVENT
END:VCALENDAR