BEGIN:VCALENDAR
VERSION:2.0
PRODID:-//NEW Dueling Pianos - ECPv6.15.20//NONSGML v1.0//EN
CALSCALE:GREGORIAN
METHOD:PUBLISH
X-ORIGINAL-URL:https://newduelingpianos.com
X-WR-CALDESC:Events for NEW Dueling Pianos
REFRESH-INTERVAL;VALUE=DURATION:PT1H
X-Robots-Tag:noindex
X-PUBLISHED-TTL:PT1H
BEGIN:VTIMEZONE
TZID:America/Chicago
BEGIN:DAYLIGHT
TZOFFSETFROM:-0600
TZOFFSETTO:-0500
TZNAME:CDT
DTSTART:20230312T080000
END:DAYLIGHT
BEGIN:STANDARD
TZOFFSETFROM:-0500
TZOFFSETTO:-0600
TZNAME:CST
DTSTART:20231105T070000
END:STANDARD
BEGIN:DAYLIGHT
TZOFFSETFROM:-0600
TZOFFSETTO:-0500
TZNAME:CDT
DTSTART:20240310T080000
END:DAYLIGHT
BEGIN:STANDARD
TZOFFSETFROM:-0500
TZOFFSETTO:-0600
TZNAME:CST
DTSTART:20241103T070000
END:STANDARD
BEGIN:DAYLIGHT
TZOFFSETFROM:-0600
TZOFFSETTO:-0500
TZNAME:CDT
DTSTART:20250309T080000
END:DAYLIGHT
BEGIN:STANDARD
TZOFFSETFROM:-0500
TZOFFSETTO:-0600
TZNAME:CST
DTSTART:20251102T070000
END:STANDARD
END:VTIMEZONE
BEGIN:VEVENT
DTSTART;VALUE=DATE:20241231
DTEND;VALUE=DATE:20250101
DTSTAMP:20260422T061548
CREATED:20240315T235514Z
LAST-MODIFIED:20260317T182859Z
UID:10001440-1735603200-1735689599@newduelingpianos.com
SUMMARY:NEW Years Eve! - Ft. Atkinson
DESCRIPTION:-TICKETS/DETAILS-  \n🎉 Save the Date: New Year’s Eve Party at Koshkonong Mounds CC! 🎉 \nRing in 2025 with a night of music\, fun\, and memories! We’re bringing in N.E.W. Dueling Pianos act from Green Bay\, WI\, for an unforgettable experience. 🎹✨ \n🗓 Date: December 31\, 2024⏰ Doors Open: 6:00 PM🎶 Dueling Pianos Show: 8:00 – 11:30 PM \nGet ready for an amazing night filled with sing-alongs\, dancing\, and celebration—all before the clock strikes midnight! More details on tickets and table reservations are coming soon\, so stay tuned! Feel free to send any early inquiries to jill@kmccgolf.com.  \nMake your plans now and get ready for a unique New Year’s Eve party you won’t want to miss!  Open to public and members.  \n#NewYearsEve #KoshkonongMoundsCC #DuelingPianos #PartyNight
URL:https://newduelingpianos.com/event/nye-koshkonong-mounds-gc-ft-atkinison/
LOCATION:Koshkonong Mounds Country Club\, 7670 Koshkonong Mounds Rd\, Fort Atkinson\, WI\, United States
GEO:42.874596;-88.911343
X-APPLE-STRUCTURED-LOCATION;VALUE=URI;X-ADDRESS=Koshkonong Mounds Country Club 7670 Koshkonong Mounds Rd Fort Atkinson WI United States;X-APPLE-RADIUS=500;X-TITLE=7670 Koshkonong Mounds Rd:geo:-88.911343,42.874596
END:VEVENT
END:VCALENDAR