BEGIN:VCALENDAR
VERSION:2.0
PRODID:-//NEW Dueling Pianos - ECPv6.15.20//NONSGML v1.0//EN
CALSCALE:GREGORIAN
METHOD:PUBLISH
X-WR-CALNAME:NEW Dueling Pianos
X-ORIGINAL-URL:https://newduelingpianos.com
X-WR-CALDESC:Events for NEW Dueling Pianos
REFRESH-INTERVAL;VALUE=DURATION:PT1H
X-Robots-Tag:noindex
X-PUBLISHED-TTL:PT1H
BEGIN:VTIMEZONE
TZID:America/Chicago
BEGIN:DAYLIGHT
TZOFFSETFROM:-0600
TZOFFSETTO:-0500
TZNAME:CDT
DTSTART:20220313T080000
END:DAYLIGHT
BEGIN:STANDARD
TZOFFSETFROM:-0500
TZOFFSETTO:-0600
TZNAME:CST
DTSTART:20221106T070000
END:STANDARD
BEGIN:DAYLIGHT
TZOFFSETFROM:-0600
TZOFFSETTO:-0500
TZNAME:CDT
DTSTART:20230312T080000
END:DAYLIGHT
BEGIN:STANDARD
TZOFFSETFROM:-0500
TZOFFSETTO:-0600
TZNAME:CST
DTSTART:20231105T070000
END:STANDARD
BEGIN:DAYLIGHT
TZOFFSETFROM:-0600
TZOFFSETTO:-0500
TZNAME:CDT
DTSTART:20240310T080000
END:DAYLIGHT
BEGIN:STANDARD
TZOFFSETFROM:-0500
TZOFFSETTO:-0600
TZNAME:CST
DTSTART:20241103T070000
END:STANDARD
END:VTIMEZONE
BEGIN:VEVENT
DTSTART;VALUE=DATE:20230615
DTEND;VALUE=DATE:20230616
DTSTAMP:20260422T072455
CREATED:20230106T001834Z
LAST-MODIFIED:20240829T003928Z
UID:10001242-1686787200-1686873599@newduelingpianos.com
SUMMARY:Green Bay Rockers - Green Bay
DESCRIPTION:-TICKETS/INFO-Â Â  \nBud Light Thirsty Thursday: $4 24 oz. Tap Beers through the 5th Inning (Dean Distributing domestic & craft pours) \nWe play an hour before the first pitch – and throughout the game all the way up to the 7th Inning Stretch!
URL:https://newduelingpianos.com/event/to-be-announced-green-bay-2/
LOCATION:Green Bay Rockers Baseball\, 2231 Holmgren Way\, Green Bay\, WI\, United States
GEO:44.489848;-88.058788
X-APPLE-STRUCTURED-LOCATION;VALUE=URI;X-ADDRESS=Green Bay Rockers Baseball 2231 Holmgren Way Green Bay WI United States;X-APPLE-RADIUS=500;X-TITLE=2231 Holmgren Way:geo:-88.058788,44.489848
END:VEVENT
END:VCALENDAR