BEGIN:VCALENDAR
VERSION:2.0
PRODID:-//NEW Dueling Pianos - ECPv6.15.20//NONSGML v1.0//EN
CALSCALE:GREGORIAN
METHOD:PUBLISH
X-WR-CALNAME:NEW Dueling Pianos
X-ORIGINAL-URL:https://newduelingpianos.com
X-WR-CALDESC:Events for NEW Dueling Pianos
REFRESH-INTERVAL;VALUE=DURATION:PT1H
X-Robots-Tag:noindex
X-PUBLISHED-TTL:PT1H
BEGIN:VTIMEZONE
TZID:America/Chicago
BEGIN:DAYLIGHT
TZOFFSETFROM:-0600
TZOFFSETTO:-0500
TZNAME:CDT
DTSTART:20210314T080000
END:DAYLIGHT
BEGIN:STANDARD
TZOFFSETFROM:-0500
TZOFFSETTO:-0600
TZNAME:CST
DTSTART:20211107T070000
END:STANDARD
BEGIN:DAYLIGHT
TZOFFSETFROM:-0600
TZOFFSETTO:-0500
TZNAME:CDT
DTSTART:20220313T080000
END:DAYLIGHT
BEGIN:STANDARD
TZOFFSETFROM:-0500
TZOFFSETTO:-0600
TZNAME:CST
DTSTART:20221106T070000
END:STANDARD
BEGIN:DAYLIGHT
TZOFFSETFROM:-0600
TZOFFSETTO:-0500
TZNAME:CDT
DTSTART:20230312T080000
END:DAYLIGHT
BEGIN:STANDARD
TZOFFSETFROM:-0500
TZOFFSETTO:-0600
TZNAME:CST
DTSTART:20231105T070000
END:STANDARD
END:VTIMEZONE
BEGIN:VEVENT
DTSTART;VALUE=DATE:20221111
DTEND;VALUE=DATE:20221112
DTSTAMP:20260425T114727
CREATED:20220805T172939Z
LAST-MODIFIED:20230606T204833Z
UID:10000962-1668124800-1668211199@newduelingpianos.com
SUMMARY:Benjamin's House Fundraiser - Rice Lake
DESCRIPTION:-TICKETS/INFO-   \nJoin us for an evening of music\, laughter and fun!  \nFeaturing NEW DUELING PIANOS\, a dueling piano consists of two grand pianos\, two charismatic\, hilarious entertainers behind the keys\, and an audience that will laugh and dance into the night. Throughout the night the piano players play audience requested songs. The pianists sing and battle back and forth with comedic commentary and hilarious banter. \nRaising It Up is not only a fun night out but also an opportunity to support Benjamin’s House\, the homeless shelter serving Barron County and beyond.  \nReserve a table for $600 or purchase individual tickets for $60 each.  \nThis year’s event will take place at a new venue – The Northern Star Theater Company located at 12 W. Marshall St.\, downtown Rice Lake.
URL:https://newduelingpianos.com/event/benjamins-house-fundraiser-rice-lake/
LOCATION:Northern Star Theatre Company\, 12 W Marshall St\, Rice Lake\, WI 54868\, USA
END:VEVENT
BEGIN:VEVENT
DTSTART;VALUE=DATE:20221111
DTEND;VALUE=DATE:20221112
DTSTAMP:20260425T114727
CREATED:20221008T000229Z
LAST-MODIFIED:20230606T204833Z
UID:10001194-1668124800-1668211199@newduelingpianos.com
SUMMARY:Manitowoc Ships Baseball Fundraiser
DESCRIPTION:-TICKETS/INFO-  \nCome out and enjoy an evening of fun and lively\, dueling piano fun. A dueling piano show is live music\, meets comedy\, and lots of laughter!! \nAll proceeds from this event will help fund the Manitowoc Ships varsity baseball team and their 2023 spring training trip to the Jackie Robinson Baseball Training facility in Vero Beach\, Florida in March. \nDoors open at 7pm – Dueling piano fun starts at 8pm. Join us for an evening of music\, comedy\, food\, raffles\, and more! \nBuy your tickets here: https://www.eventbrite.com/…/an-evening-of-dueling…
URL:https://newduelingpianos.com/event/manitowoc-ships-baseball-fundraiser/
LOCATION:Silver Valley Bar & Banquet\, 1222 S Alverno Rd\, Manitowoc\, WI 54220\, USA
END:VEVENT
END:VCALENDAR