BEGIN:VCALENDAR
VERSION:2.0
PRODID:-//NEW Dueling Pianos - ECPv6.15.20//NONSGML v1.0//EN
CALSCALE:GREGORIAN
METHOD:PUBLISH
X-ORIGINAL-URL:https://newduelingpianos.com
X-WR-CALDESC:Events for NEW Dueling Pianos
REFRESH-INTERVAL;VALUE=DURATION:PT1H
X-Robots-Tag:noindex
X-PUBLISHED-TTL:PT1H
BEGIN:VTIMEZONE
TZID:America/Chicago
BEGIN:DAYLIGHT
TZOFFSETFROM:-0600
TZOFFSETTO:-0500
TZNAME:CDT
DTSTART:20210314T080000
END:DAYLIGHT
BEGIN:STANDARD
TZOFFSETFROM:-0500
TZOFFSETTO:-0600
TZNAME:CST
DTSTART:20211107T070000
END:STANDARD
BEGIN:DAYLIGHT
TZOFFSETFROM:-0600
TZOFFSETTO:-0500
TZNAME:CDT
DTSTART:20220313T080000
END:DAYLIGHT
BEGIN:STANDARD
TZOFFSETFROM:-0500
TZOFFSETTO:-0600
TZNAME:CST
DTSTART:20221106T070000
END:STANDARD
BEGIN:DAYLIGHT
TZOFFSETFROM:-0600
TZOFFSETTO:-0500
TZNAME:CDT
DTSTART:20230312T080000
END:DAYLIGHT
BEGIN:STANDARD
TZOFFSETFROM:-0500
TZOFFSETTO:-0600
TZNAME:CST
DTSTART:20231105T070000
END:STANDARD
END:VTIMEZONE
BEGIN:VEVENT
DTSTART;VALUE=DATE:20221110
DTEND;VALUE=DATE:20221111
DTSTAMP:20260425T091826
CREATED:20220916T214752Z
LAST-MODIFIED:20230606T204833Z
UID:10001001-1668038400-1668124799@newduelingpianos.com
SUMMARY:Marshfield Tigers Booster Fundraiser - Marshfield
DESCRIPTION:-TICKETS/INFO- \nEnjoy an evening with friends! This event is awesome and absolutely filled with fun all night. The doors open at 6 PM with light appetizers and the show begins at 7 pm. Mark your calendar for what promises to be an unforgettable evening with our special guests NEW Dueling Pianos! \nFunds raised support ALL athletic programs of Marshfield High School and Marshfield Middle School
URL:https://newduelingpianos.com/event/marshfield-tigers-booster-fundraiser-marshfield/
LOCATION:Holiday Inn Conference Ctr Marshfield\, an IHG Hotel\, 750 S Central Ave\, Marshfield\, WI 54449\, USA
END:VEVENT
END:VCALENDAR