BEGIN:VCALENDAR
VERSION:2.0
PRODID:-//NEW Dueling Pianos - ECPv6.15.20//NONSGML v1.0//EN
CALSCALE:GREGORIAN
METHOD:PUBLISH
X-ORIGINAL-URL:https://newduelingpianos.com
X-WR-CALDESC:Events for NEW Dueling Pianos
REFRESH-INTERVAL;VALUE=DURATION:PT1H
X-Robots-Tag:noindex
X-PUBLISHED-TTL:PT1H
BEGIN:VTIMEZONE
TZID:America/Chicago
BEGIN:DAYLIGHT
TZOFFSETFROM:-0600
TZOFFSETTO:-0500
TZNAME:CDT
DTSTART:20210314T080000
END:DAYLIGHT
BEGIN:STANDARD
TZOFFSETFROM:-0500
TZOFFSETTO:-0600
TZNAME:CST
DTSTART:20211107T070000
END:STANDARD
BEGIN:DAYLIGHT
TZOFFSETFROM:-0600
TZOFFSETTO:-0500
TZNAME:CDT
DTSTART:20220313T080000
END:DAYLIGHT
BEGIN:STANDARD
TZOFFSETFROM:-0500
TZOFFSETTO:-0600
TZNAME:CST
DTSTART:20221106T070000
END:STANDARD
BEGIN:DAYLIGHT
TZOFFSETFROM:-0600
TZOFFSETTO:-0500
TZNAME:CDT
DTSTART:20230312T080000
END:DAYLIGHT
BEGIN:STANDARD
TZOFFSETFROM:-0500
TZOFFSETTO:-0600
TZNAME:CST
DTSTART:20231105T070000
END:STANDARD
END:VTIMEZONE
BEGIN:VEVENT
DTSTART;VALUE=DATE:20221016
DTEND;VALUE=DATE:20221017
DTSTAMP:20260425T070546
CREATED:20220805T172934Z
LAST-MODIFIED:20230606T204831Z
UID:10000951-1665878400-1665964799@newduelingpianos.com
SUMMARY:Cheers to 20 years - Green Bay
DESCRIPTION:-TICKETS/INFO-CHEERS TO 20 YEARS!!!!HAND-N-HAND OF NORTHEASTERN WISCONSIN\, INC. IS CELEBRATING OUR 20TH ANNIVERSARY AND INVITES YOU TO JOIN IN THE CELEBRATION \nSUNDAY\, OCTOBER 16\, 20224 O’CLOCKDressy Casual Attire EncouragedRSVP with Number of Guests by 10.01.22 \n$50 Per Ticket ~ $400 Table of 8 \nIf making payment online (donate button)\, please send guest(s) name(s) via RSVP card in mail or in an email \nTHE ORGANIZATIONHand-N-Hand has been uniquely providing deaf & hard of hearing support and resources since 2002 \nOUR APPRECIATION20 years is a huge milestone for us and we are thankful to the community for your generosity\, support and recognition of our services through the years \nTHE CELEBRATION* 4 PM ~ Doors Open with a Cocktail Reception – Cash Bar Available* 4:30 PM ~ Buffet Dinner Served with Remarks and a Toast to Follow\, Door Prize & MAD Award Presentation* 6-8 PM ~ Live Entertainment by NEW Dueling Pianos (NEW Piano Guys)Heads or Tails RaffleEvent Emcee: Scotty GrathenFor more information please contact Jenny Geiken at 920.737.0477 or jlgeiken@hnhnew.org​Making A Difference Award:Nominations are invited for the Hand-N-Hand Making A Difference (MAD) award. This award recognizes exceptional individuals whose achievements\, leadership and support effect change\, inspire us\, and enrich the lives of deaf and hard of hearing in our community. The MAD award will be presented at the Cheers to 20 Years Celebration on October 16\, 2022.As a means of thanking our community for their support of deaf and hard of hearing children and families\, Hand-N-Hand has been recognizing community members with this award since 2010.
URL:https://newduelingpianos.com/event/hand-n-hand-fundraiser-green-bay/
LOCATION:Black Sheep Pub and Grill\, 2638 Bay Settlement Rd\, Green Bay\, WI 54311\, USA
END:VEVENT
END:VCALENDAR