BEGIN:VCALENDAR
VERSION:2.0
PRODID:-//NEW Dueling Pianos - ECPv6.15.20//NONSGML v1.0//EN
CALSCALE:GREGORIAN
METHOD:PUBLISH
X-ORIGINAL-URL:https://newduelingpianos.com
X-WR-CALDESC:Events for NEW Dueling Pianos
REFRESH-INTERVAL;VALUE=DURATION:PT1H
X-Robots-Tag:noindex
X-PUBLISHED-TTL:PT1H
BEGIN:VTIMEZONE
TZID:America/Chicago
BEGIN:DAYLIGHT
TZOFFSETFROM:-0600
TZOFFSETTO:-0500
TZNAME:CDT
DTSTART:20210314T080000
END:DAYLIGHT
BEGIN:STANDARD
TZOFFSETFROM:-0500
TZOFFSETTO:-0600
TZNAME:CST
DTSTART:20211107T070000
END:STANDARD
BEGIN:DAYLIGHT
TZOFFSETFROM:-0600
TZOFFSETTO:-0500
TZNAME:CDT
DTSTART:20220313T080000
END:DAYLIGHT
BEGIN:STANDARD
TZOFFSETFROM:-0500
TZOFFSETTO:-0600
TZNAME:CST
DTSTART:20221106T070000
END:STANDARD
BEGIN:DAYLIGHT
TZOFFSETFROM:-0600
TZOFFSETTO:-0500
TZNAME:CDT
DTSTART:20230312T080000
END:DAYLIGHT
BEGIN:STANDARD
TZOFFSETFROM:-0500
TZOFFSETTO:-0600
TZNAME:CST
DTSTART:20231105T070000
END:STANDARD
END:VTIMEZONE
BEGIN:VEVENT
DTSTART;VALUE=DATE:20221006
DTEND;VALUE=DATE:20221007
DTSTAMP:20260425T091819
CREATED:20220827T200303Z
LAST-MODIFIED:20230606T204830Z
UID:10000989-1665014400-1665100799@newduelingpianos.com
SUMMARY:Hearthstone of Wisconsin Fundraiser - Sheboygan
DESCRIPTION:-TICKETS/INFO-  \nWe are proud to dedicate this year’s proceeds to our growing number of free\, accessible social events and the HearthStone Educational Opportunity Scholarship fund. HearthStone Social Events…So many great ways for young people to gather and have fun together! • Annual Spring Dance • Pool Parties • SEAS Lake Michigan Sailing • Summer Picnic • Legislative Bowling Party • Annual Christmas PartyEducational OpportunitySCHOLARSHIP Please join us for an evening of fun and fabulous food to benefit Sheboygan’s own HearthStone of Wisconsin\, celebrating people with disabilities in our communities.  
URL:https://newduelingpianos.com/event/hearthstone-of-wisconsin-fundraiser-sheboygan/
LOCATION:Town & Country Club\, W1943 Co Rd J\, Sheboygan\, WI 53083\, USA
END:VEVENT
BEGIN:VEVENT
DTSTART;VALUE=DATE:20221006
DTEND;VALUE=DATE:20221007
DTSTAMP:20260425T091819
CREATED:20220830T200252Z
LAST-MODIFIED:20230606T204830Z
UID:10000992-1665014400-1665100799@newduelingpianos.com
SUMMARY:De Pere Youth Hockey Fundraiser
DESCRIPTION:-TICKETS/INFO-   \nCome celebrate the 50th year of De Pere Youth Hockey and enjoy the talents of NEW Dueling Pianos\, Booze Raffle\, 50/50 Drawing and Cash Bar.   \nTickets Only $20/PersonAll proceeds benefit our 501(c)3 youth organization!  21 and over event Tickets available at door as wellDoors 5:30Music 6:30
URL:https://newduelingpianos.com/event/de-pere-youth-hockey-fundraiser/
LOCATION:Swan Club in De Pere Wisconsin\, 875 Heritage Rd\, De Pere\, WI 54115\, USA
END:VEVENT
END:VCALENDAR