BEGIN:VCALENDAR
VERSION:2.0
PRODID:-//NEW Dueling Pianos - ECPv6.15.20//NONSGML v1.0//EN
CALSCALE:GREGORIAN
METHOD:PUBLISH
X-ORIGINAL-URL:https://newduelingpianos.com
X-WR-CALDESC:Events for NEW Dueling Pianos
REFRESH-INTERVAL;VALUE=DURATION:PT1H
X-Robots-Tag:noindex
X-PUBLISHED-TTL:PT1H
BEGIN:VTIMEZONE
TZID:America/Chicago
BEGIN:DAYLIGHT
TZOFFSETFROM:-0600
TZOFFSETTO:-0500
TZNAME:CDT
DTSTART:20250309T080000
END:DAYLIGHT
BEGIN:STANDARD
TZOFFSETFROM:-0500
TZOFFSETTO:-0600
TZNAME:CST
DTSTART:20251102T070000
END:STANDARD
BEGIN:DAYLIGHT
TZOFFSETFROM:-0600
TZOFFSETTO:-0500
TZNAME:CDT
DTSTART:20260308T080000
END:DAYLIGHT
BEGIN:STANDARD
TZOFFSETFROM:-0500
TZOFFSETTO:-0600
TZNAME:CST
DTSTART:20261101T070000
END:STANDARD
BEGIN:DAYLIGHT
TZOFFSETFROM:-0600
TZOFFSETTO:-0500
TZNAME:CDT
DTSTART:20270314T080000
END:DAYLIGHT
BEGIN:STANDARD
TZOFFSETFROM:-0500
TZOFFSETTO:-0600
TZNAME:CST
DTSTART:20271107T070000
END:STANDARD
END:VTIMEZONE
BEGIN:VEVENT
DTSTART;VALUE=DATE:20260423
DTEND;VALUE=DATE:20260424
DTSTAMP:20260419T130440
CREATED:20260410T165511Z
LAST-MODIFIED:20260413T181339Z
UID:10001670-1776902400-1776988799@newduelingpianos.com
SUMMARY:St. John's Lutheran Fundraiser - North Prarie
DESCRIPTION:-TICKETS/INFO-   \nJoin us with NEW Dueling Pianos at our Fundraiser for St. John’s Preschool and Daycare. \nDoors Open at 5PM – Mingling until 6PM – Dinner at 6PM \nLive Entertainment Starts at 7PM!Attending a NEW Dueling Pianos show is a great way to raise funds for St. John’s Lutheran Preschool and Daycare.  It’s set to be a fun-filled evening of music\, laughter\, and delicious food all for a great cause! \nTickets are $67.00/person4 Pack of Tickets for $260 (Save $2/Ticket)Tables of 10 for $630 (Save $4/Ticket)Silent Auctions – Raffles – Live Music Auction*a portion of all tips/bribes/donations during the show will be donated back to the fundraiser as well!!
URL:https://newduelingpianos.com/event/st-johns-lutheran-fundraiser-north-prarie/
LOCATION:Broadlands Golf Club\, 200 Augusta Way\, North Prairie\, WI\, United States
GEO:42.934736;-88.416536
X-APPLE-STRUCTURED-LOCATION;VALUE=URI;X-ADDRESS=Broadlands Golf Club 200 Augusta Way North Prairie WI United States;X-APPLE-RADIUS=500;X-TITLE=200 Augusta Way:geo:-88.416536,42.934736
END:VEVENT
BEGIN:VEVENT
DTSTART;VALUE=DATE:20260424
DTEND;VALUE=DATE:20260425
DTSTAMP:20260419T130440
CREATED:20250710T145628Z
LAST-MODIFIED:20260413T181338Z
UID:10001596-1776988800-1777075199@newduelingpianos.com
SUMMARY:De Pere Redbird Football Boosters - De Pere
DESCRIPTION:-TICKETS/INFO- \nhttps://dpfb.ticketbud.com/birdbash26\nNOTE: This is a 21+ event. Grown-ups only!\nJoin us for the 3rd Annual Bird Bash — a night of music\, laughs\, and good times in support of De Pere Redbird Football!\nHosted by the De Pere Football Booster Club\, this adults-only fundraiser is guaranteed to be a blast. 💵 Bring your cash and your song requests — tipping and “bribing” the performers is part of the show\, and every dollar of tips and gratuities goes straight back to the Booster Club.\n✨ Plus\, we’re adding some new fundraising games and surprises this year — so even if you came last year\, there’s something new to check out! ✨\nCome ready to sing\, laugh\, and have a night you won’t forget! \nEvent Details\nDate: April 24\, 2026\nDoors open: 6:00 PM | Show: 7:30–10:30 PM\nLocation: Swan Club (Chicago Street Pub)\nAges: 21+ only\nCSP pizzas available to order from 6:00–7:15 PM (order when you arrive!)\nCash bar available\n﻿\nTickets/Seats (Reference Layout Below):\nThe layout below is for reference only. Actual spacing between tables will be finalized during on-site setup.\nMVP TABLE- $400/table of 8 – Red Tables\nSTANDARD TABLE – $240/table of 8 – Gray Tables\nGENERAL ADMISSION – $35 per person – Grab a seat at any of the white tables — first come\, first served\, so snag your spot!\n￼\nFor questions or sponsorship inquiries please email the De Pere Football Booster Club at deperefootball@gmail.com\nTHE ENTERTAINMENT:\n￼\nIf you came last year\, you already know how fun this show is. If you didn’t — now’s your chance!\nEnjoy Wisconsin’s most in-demand Dueling Pianos act\, NEW Dueling Pianos\, with over 100 shows a year. Their interactive\, hilarious\, and high-energy show will have you singing\, clapping\, and laughing all night as they take your song requests and put their own spin on them.\n“The Guys” are the perfect mix of comedy\, concert\, and creativity — and the crowd is part of the show!\nIt’s a night that’s guaranteed to be entertaining — and unforgettable.
URL:https://newduelingpianos.com/event/de-pere-redbird-football-boosters-de-pere/
END:VEVENT
BEGIN:VEVENT
DTSTART;VALUE=DATE:20260425
DTEND;VALUE=DATE:20260426
DTSTAMP:20260419T130440
CREATED:20251103T151150Z
LAST-MODIFIED:20260413T181340Z
UID:10001627-1777075200-1777161599@newduelingpianos.com
SUMMARY:Wild Rose FD Fundraiser
DESCRIPTION:-TICKETS/INFO- \n$50/person\nCash Bar!  Light Snacks!  21+ Event!\nTickets are limited – first come/first served\nMail payment and attendee(s) names to:\n145 Grant Ave.\nWild Rose\, WI 54984\nOr contact Ken Yeska (920) 572-2209 with any questions
URL:https://newduelingpianos.com/event/wild-rose-fd-fundraiser/
LOCATION:Wild Rose Fire Station\, 198 Grant Ave\, Wild Rose\, WI\, United States
GEO:44.173757;-89.25735
X-APPLE-STRUCTURED-LOCATION;VALUE=URI;X-ADDRESS=Wild Rose Fire Station 198 Grant Ave Wild Rose WI United States;X-APPLE-RADIUS=500;X-TITLE=198 Grant Ave:geo:-89.25735,44.173757
END:VEVENT
END:VCALENDAR